Felt | Verdi |
AlreadyApplied | True |
Aperture | 29.0 |
ApertureValue | 29.0 |
ApproximateFocusDistance | 29.9 |
AutoLateralCA | 1 |
AutoWhiteVersion | 134348800 |
BitsPerSample | 8 |
Blacks2012 | -82 |
BlueHue | 0 |
BlueSaturation | 0 |
CameraProfile | Adobe Standard |
CFAPattern | [Red,Green][Green,Blue] |
CircleOfConfusion | 0.030 mm |
Clarity2012 | -24 |
ColorComponents | 3 |
ColorNoiseReduction | 52 |
ColorNoiseReductionDetail | 50 |
ColorNoiseReductionSmoothness | 50 |
ColorTemperature | 6081 |
ColorTransform | YCbCr |
Contrast | Normal |
Contrast2012 | +67 |
ConvertToGrayscale | False |
CreateDate (1) | 2012:11:05 13:15:41.46 |
CreateDate | 2012:11:05 13:15:41 |
CreatorTool | Adobe Photoshop Lightroom 6.1 (Macintosh) |
CropAngle | 0 |
CropBottom | 0.870815 |
CropConstrainToWarp | 1 |
CropLeft | 0 |
CropRight | 0.859346 |
CropTop | 0.012389 |
CustomRendered | Normal |
DateCreated (1) | 2012:11:05 13:15:41.46 |
DateCreated | 2012:11:05 |
DateTimeOriginal | 2012:11:05 13:15:41 |
DefringeGreenAmount | 0 |
DefringeGreenHueHi | 60 |
DefringeGreenHueLo | 40 |
DefringePurpleAmount | 0 |
DefringePurpleHueHi | 70 |
DefringePurpleHueLo | 30 |
Dehaze | 0 |
DigitalZoomRatio | 1 |
DOF | inf (8.31 m - inf) |
Exposure2012 | +1.00 |
ExposureCompensation | 0 |
ExposureMode | Manual |
ExposureProgram | Manual |
ExposureTime | 1/100 |
Flash | No Flash |
FNumber | 29.0 |
FocalLength | 100.0 mm |
FocalLength35efl | 100.0 mm (35 mm equivalent: 100.0 mm) |
FocalLengthIn35mmFormat | 100 mm |
Format | image/jpeg |
FOV | 20.4 deg |
GainControl | Low gain up |
GradientBasedCorrActive | true |
GradientBasedCorrAmount | 1.000000 |
GradientBasedCorrBrightness (1) | 0.320225 |
GradientBasedCorrBrightness | 0.000000 |
GradientBasedCorrClarity2012 | 0.000000 |
GradientBasedCorrContrast2012 | 0.000000 |
GradientBasedCorrDefringe | 0.000000 |
GradientBasedCorrExposure2012 (1) | -0.066964 |
GradientBasedCorrExposure2012 | 0.017039 |
GradientBasedCorrHighlights2012 (1) | -0.226042 |
GradientBasedCorrHighlights2012 | 0.000000 |
GradientBasedCorrHue (1) | 233.000000 |
GradientBasedCorrHue | 166.352005 |
GradientBasedCorrLocalBlacks2012 | 0.000000 |
GradientBasedCorrLocalWhites2012 | 0.006957 |
GradientBasedCorrLuminanceNoise | 0.000000 |
GradientBasedCorrMaskFullX (1) | 0.167346 |
GradientBasedCorrMaskFullX | 0.472937 |
GradientBasedCorrMaskFullY (1) | 0.110795 |
GradientBasedCorrMaskFullY | 0.693648 |
GradientBasedCorrMaskValue | 1.000000 |
GradientBasedCorrMaskWhat | Mask/Gradient |
GradientBasedCorrMaskZeroX (1) | 0.289841 |
GradientBasedCorrMaskZeroX | 0.388264 |
GradientBasedCorrMaskZeroY (1) | 0.642136 |
GradientBasedCorrMaskZeroY | 0.277336 |
GradientBasedCorrMoire (1) | 0.000000 |
GradientBasedCorrMoire | -0.003199 |
GradientBasedCorrSaturation | 0.000000 |
GradientBasedCorrShadows2012 (1) | 0.000966 |
GradientBasedCorrShadows2012 | -0.411458 |
GradientBasedCorrSharpness (1) | 0.000000 |
GradientBasedCorrSharpness | 0.001302 |
GradientBasedCorrTemperature (1) | -0.111719 |
GradientBasedCorrTemperature | 0.037314 |
GradientBasedCorrTint | 0.000000 |
GradientBasedCorrWhat | Correction |
GrainAmount | 0 |
GreenHue | 0 |
GreenSaturation | 0 |
HasCrop | True |
HasExtendedXMP | 105ED3C9CFB333B599009C2507235B3E |
HasSettings | True |
Highlights2012 | 0 |
HueAdjustmentAqua | 0 |
HueAdjustmentBlue | 0 |
HueAdjustmentGreen | 0 |
HueAdjustmentMagenta | 0 |
HueAdjustmentOrange | 0 |
HueAdjustmentPurple | 0 |
HueAdjustmentRed | 0 |
HueAdjustmentYellow | 0 |
HyperfocalDistance | 11.48 m |
ImageHeight | 2431 |
ImageNumber | 46504 |
ImageSize | 3657x2431 |
ImageWidth | 3657 |
ISO | 500 |
Lens | 28.0-300.0 mm f/3.5-5.6 |
LensID (1) | 165 |
LensID | AF-S Nikkor 28-300mm f/3.5-5.6G ED VR |
LensInfo | 28-300mm f/3.5-5.6 |
LensManualDistortionAmount | 0 |
LensModel | 28.0-300.0 mm f/3.5-5.6 |
LensProfileChromaticAberrationScale | 100 |
LensProfileDistortionScale | 100 |
LensProfileEnable | 1 |
LensProfileFilename | NIKON D3X (Nikon AF-S NIKKOR 28-300mm f3.5-5.6 ED VR) - RAW.lcp |
LensProfileName | Adobe (Nikon AF-S NIKKOR 28-300mm f/3.5-5.6 ED VR) |
LensProfileSetup | LensDefaults |
LensProfileVignettingScale | 100 |
LightSource | Fine Weather |
LightValue | 14.0 |
LuminanceAdjustmentAqua | 0 |
LuminanceAdjustmentBlue | -14 |
LuminanceAdjustmentGreen | 0 |
LuminanceAdjustmentMagenta | 0 |
LuminanceAdjustmentOrange | 0 |
LuminanceAdjustmentPurple | 0 |
LuminanceAdjustmentRed | 0 |
LuminanceAdjustmentYellow | 0 |
LuminanceNoiseReductionContrast | 45 |
LuminanceNoiseReductionDetail | 70 |
LuminanceSmoothing | 44 |
Make | NIKON CORPORATION |
MaxApertureValue | 5.5 |
Megapixels | 8.9 |
MeteringMode | Multi-segment |
Model | NIKON D3S |
ModifyDate (1) | 2015:10:11 13:09:28+02:00 |
ModifyDate | 2015:10:11 13:09:28 |
Orientation | Horizontal (normal) |
PaintCorrectionActive | true |
PaintCorrectionAmount | 1.000000 |
PaintCorrectionBrightness (1) | 0.320225 |
PaintCorrectionBrightness | 0.000000 |
PaintCorrectionClarity2012 (1) | 0.797753 |
PaintCorrectionClarity2012 (2) | 0.296987 |
PaintCorrectionClarity2012 (3) | -0.585156 |
PaintCorrectionClarity2012 (4) | 0.383333 |
PaintCorrectionClarity2012 | 0.000000 |
PaintCorrectionContrast2012 (1) | 0.051749 |
PaintCorrectionContrast2012 (2) | 0.001399 |
PaintCorrectionContrast2012 (4) | 0.000000 |
PaintCorrectionContrast2012 | 0.347024 |
PaintCorrectionDefringe | 0.000000 |
PaintCorrectionExposure2012 (1) | 0.009673 |
PaintCorrectionExposure2012 (2) | 0.020610 |
PaintCorrectionExposure2012 (3) | 0.000000 |
PaintCorrectionExposure2012 (4) | -0.016815 |
PaintCorrectionExposure2012 | -0.055134 |
PaintCorrectionHighlights2012 | 0.000000 |
PaintCorrectionHue (1) | 233.000000 |
PaintCorrectionHue | 166.352005 |
PaintCorrectionLocalBlacks2012 | 0.000000 |
PaintCorrectionLocalWhites2012 | 0.006957 |
PaintCorrectionLuminanceNoise (2) | 0.265625 |
PaintCorrectionLuminanceNoise (3) | 0.400446 |
PaintCorrectionLuminanceNoise | 0.000000 |
PaintCorrectionMaskCenterWeight (3) | 1.000000 |
PaintCorrectionMaskCenterWeight | 0.000000 |
PaintCorrectionMaskFlow (13) | 1.000000 |
PaintCorrectionMaskFlow (15) | 0.584702 |
PaintCorrectionMaskFlow (17) | 0.555401 |
PaintCorrectionMaskFlow (30) | 0.339514 |
PaintCorrectionMaskFlow | 0.913207 |
PaintCorrectionMaskRadius (14) | 0.171501 |
PaintCorrectionMaskRadius (16) | 0.050908 |
PaintCorrectionMaskRadius (17) | 0.048962 |
PaintCorrectionMaskRadius (18) | 0.049053 |
PaintCorrectionMaskRadius (19) | 0.049181 |
PaintCorrectionMaskRadius (20) | 0.049719 |
PaintCorrectionMaskRadius (21) | 0.051086 |
PaintCorrectionMaskRadius (22) | 0.051315 |
PaintCorrectionMaskRadius (23) | 0.011496 |
PaintCorrectionMaskRadius (24) | 0.011418 |
PaintCorrectionMaskRadius (25) | 0.011370 |
PaintCorrectionMaskRadius (26) | 0.011293 |
PaintCorrectionMaskRadius (27) | 0.011272 |
PaintCorrectionMaskRadius (29) | 0.011292 |
PaintCorrectionMaskRadius (30) | 0.011260 |
PaintCorrectionMaskRadius (31) | 0.011285 |
PaintCorrectionMaskRadius (32) | 0.011261 |
PaintCorrectionMaskRadius (33) | 0.049298 |
PaintCorrectionMaskRadius (35) | 0.143845 |
PaintCorrectionMaskRadius (36) | 0.145892 |
PaintCorrectionMaskRadius (37) | 0.136130 |
PaintCorrectionMaskRadius (38) | 0.136369 |
PaintCorrectionMaskRadius (39) | 0.136160 |
PaintCorrectionMaskRadius (40) | 0.136108 |
PaintCorrectionMaskRadius (41) | 0.136178 |
PaintCorrectionMaskRadius (42) | 0.454041 |
PaintCorrectionMaskRadius (45) | 0.445802 |
PaintCorrectionMaskRadius (46) | 0.446876 |
PaintCorrectionMaskRadius (47) | 0.446814 |
PaintCorrectionMaskRadius (48) | 0.447149 |
PaintCorrectionMaskRadius (49) | 0.003662 |
PaintCorrectionMaskRadius (50) | 0.003669 |
PaintCorrectionMaskRadius (51) | 0.003668 |
PaintCorrectionMaskRadius (52) | 0.003666 |
PaintCorrectionMaskRadius (54) | 0.003665 |
PaintCorrectionMaskRadius (55) | 0.003664 |
PaintCorrectionMaskRadius (56) | 0.003661 |
PaintCorrectionMaskRadius (57) | 0.003657 |
PaintCorrectionMaskRadius (58) | 0.003654 |
PaintCorrectionMaskRadius (59) | 0.003651 |
PaintCorrectionMaskRadius (60) | 0.003647 |
PaintCorrectionMaskRadius (61) | 0.003644 |
PaintCorrectionMaskRadius (63) | 0.003639 |
PaintCorrectionMaskRadius (64) | 0.003637 |
PaintCorrectionMaskRadius (65) | 0.003635 |
PaintCorrectionMaskRadius (66) | 0.003633 |
PaintCorrectionMaskRadius (67) | 0.003631 |
PaintCorrectionMaskRadius (68) | 0.003642 |
PaintCorrectionMaskRadius (69) | 0.003640 |
PaintCorrectionMaskRadius (7) | 0.003100 |
PaintCorrectionMaskRadius (74) | 0.003629 |
PaintCorrectionMaskRadius (75) | 0.003628 |
PaintCorrectionMaskRadius (76) | 0.003627 |
PaintCorrectionMaskRadius (77) | 0.003626 |
PaintCorrectionMaskRadius (9) | 0.006742 |
PaintCorrectionMaskRadius | 0.003632 |
PaintCorrectionMaskValue (15) | 1.000000 |
PaintCorrectionMaskValue | 0.990548 |
PaintCorrectionMaskWhat | Mask/Paint |
PaintCorrectionMoire (1) | 0.000000 |
PaintCorrectionMoire | -0.003199 |
PaintCorrectionSaturation | 0.000000 |
PaintCorrectionShadows2012 (2) | 0.002042 |
PaintCorrectionShadows2012 | 0.000000 |
PaintCorrectionSharpness (1) | 0.000000 |
PaintCorrectionSharpness (2) | 0.409821 |
PaintCorrectionSharpness (4) | 0.260528 |
PaintCorrectionSharpness | 0.001302 |
PaintCorrectionTemperature (1) | 0.000000 |
PaintCorrectionTemperature (2) | 0.141975 |
PaintCorrectionTemperature | -0.002679 |
PaintCorrectionTint | 0.000000 |
PaintCorrectionWhat | Correction |
ParametricDarks | -12 |
ParametricHighlights | 0 |
ParametricHighlightSplit | 75 |
ParametricLights | -36 |
ParametricMidtoneSplit | 50 |
ParametricShadows | 0 |
ParametricShadowSplit | 25 |
PerspectiveAspect | 0 |
PerspectiveHorizontal | 0 |
PerspectiveRotate | 0.0 |
PerspectiveScale | 100 |
PerspectiveUpright | 0 |
PerspectiveVertical | 0 |
PostCropVignetteAmount | 0 |
ProcessVersion | 6.7 |
ProfileDescription | sRGB IEC61966-2.1 |
Rating | 5 |
RawFileName | DSC_6223-2839-2.jpg |
RedHue | 0 |
RedSaturation | 0 |
Saturation (1) | 0 |
Saturation | Normal |
SaturationAdjustmentAqua | 0 |
SaturationAdjustmentBlue | -22 |
SaturationAdjustmentGreen | 0 |
SaturationAdjustmentMagenta | 0 |
SaturationAdjustmentOrange | 0 |
SaturationAdjustmentPurple | 0 |
SaturationAdjustmentRed | 0 |
SaturationAdjustmentYellow | 0 |
ScaleFactor35efl | 1.0 |
SceneCaptureType | Standard |
SceneType | Directly photographed |
SensingMethod | One-chip color area |
SerialNumber | 2058033 |
Shadows2012 | 0 |
ShadowTint | 0 |
SharpenDetail | 42 |
SharpenEdgeMasking | 28 |
SharpenRadius | +1.6 |
Sharpness (1) | 67 |
Sharpness | Normal |
ShutterSpeed | 1/100 |
ShutterSpeedValue | 1/100 |
Software | Adobe Photoshop Lightroom 6.1 (Macintosh) |
SplitToningBalance | 0 |
SplitToningHighlightHue | 0 |
SplitToningHighlightSaturation | 0 |
SplitToningShadowHue | 0 |
SplitToningShadowSaturation | 0 |
SubjectDistanceRange | Unknown |
Tint | +10 |
ToneCurve | 0, 0, 255, 255 |
ToneCurveBlue | 0, 0, 255, 255 |
ToneCurveGreen | 0, 0, 255, 255 |
ToneCurveName | Linear |
ToneCurveName2012 | Linear |
ToneCurvePV2012 | 0, 0, 255, 255 |
ToneCurvePV2012Blue | 0, 0, 255, 255 |
ToneCurvePV2012Green | 0, 0, 255, 255 |
ToneCurvePV2012Red | 0, 0, 255, 255 |
ToneCurveRed | 0, 0, 255, 255 |
ToneMapStrength | 0 |
Version | 9.1 |
Vibrance | +17 |
VignetteAmount | 0 |
WhiteBalance (1) | Custom |
WhiteBalance | Manual |
Whites2012 | +38 |