Felt | Verdi |
AlreadyApplied | True |
Aperture | 2.8 |
ApertureValue | 2.8 |
ApproximateFocusDistance | 33.5 |
AutoLateralCA | 1 |
AutoWhiteVersion | 134348800 |
BitsPerSample | 8 |
Blacks2012 | -30 |
BlueHue | 0 |
BlueSaturation | 0 |
CameraProfile | Adobe Standard |
CFAPattern | [Red,Green][Green,Blue] |
CircleOfConfusion | 0.030 mm |
Clarity2012 | 0 |
ColorComponents | 3 |
ColorNoiseReduction | 47 |
ColorNoiseReductionDetail | 50 |
ColorNoiseReductionSmoothness | 50 |
ColorTemperature | 9656 |
ColorTransform | YCbCr |
Contrast | Normal |
Contrast2012 | +39 |
ConvertToGrayscale | False |
CreateDate (1) | 2015:05:26 20:34:48.57 |
CreateDate | 2015:05:26 20:34:48 |
CreatorTool | Adobe Photoshop Lightroom 6.1 (Macintosh) |
CropAngle | 2.52562 |
CropBottom | 0.998036 |
CropConstrainToWarp | 1 |
CropLeft | 0.296107 |
CropRight | 0.948776 |
CropTop | 0.281058 |
CustomRendered | Normal |
DateCreated (1) | 2015:05:26 20:34:48.57 |
DateCreated | 2015:05:26 |
DateTimeOriginal | 2015:05:26 20:34:48 |
DefringeGreenAmount | 0 |
DefringeGreenHueHi | 60 |
DefringeGreenHueLo | 40 |
DefringePurpleAmount | 0 |
DefringePurpleHueHi | 70 |
DefringePurpleHueLo | 30 |
Dehaze | 0 |
DigitalZoomRatio | 1 |
DOF | 2.57 m (32.26 - 34.84 m) |
Exposure2012 | -1.59 |
ExposureCompensation | 0 |
ExposureMode | Manual |
ExposureProgram | Manual |
ExposureTime | 1/50 |
Flash | No Flash |
FNumber | 2.8 |
FocalLength | 270.0 mm |
FocalLength35efl | 270.0 mm (35 mm equivalent: 270.0 mm) |
FocalLengthIn35mmFormat | 270 mm |
Format | image/jpeg |
FOV | 7.6 deg |
GainControl | High gain up |
GrainAmount | 0 |
GreenHue | 0 |
GreenSaturation | 0 |
HasCrop | True |
HasExtendedXMP | 6ABA1B8FC405A8C6B6239B33C785796B |
HasSettings | True |
Highlights2012 | -61 |
HueAdjustmentAqua | 0 |
HueAdjustmentBlue | 0 |
HueAdjustmentGreen | 0 |
HueAdjustmentMagenta | 0 |
HueAdjustmentOrange | 0 |
HueAdjustmentPurple | 0 |
HueAdjustmentRed | 0 |
HueAdjustmentYellow | 0 |
HyperfocalDistance | 866.52 m |
ImageHeight | 1906 |
ImageNumber | 154034 |
ImageSize | 2864x1906 |
ImageWidth | 2864 |
ISO | 1600 |
Lens | 120.0-300.0 mm f/2.8 |
LensID (1) | 141 |
LensID | Sigma 120-300mm F2.8 DG OS HSM Sports |
LensInfo | 120-300mm f/2.8 |
LensManualDistortionAmount | 0 |
LensModel | 120.0-300.0 mm f/2.8 |
LensProfileChromaticAberrationScale | 100 |
LensProfileDistortionScale | 100 |
LensProfileEnable | 1 |
LensProfileFilename | NIKON CORPORATION (SIGMA 120-300mm F2.8 DG OS HSM S013) - RAW.lcp |
LensProfileName | Adobe (SIGMA 120-300mm F2.8 DG OS HSM S013, NIKON CORPORATION) |
LensProfileSetup | LensDefaults |
LensProfileVignettingScale | 100 |
LightSource | Fine Weather |
LightValue | 4.6 |
LuminanceAdjustmentAqua | 0 |
LuminanceAdjustmentBlue | 0 |
LuminanceAdjustmentGreen | 0 |
LuminanceAdjustmentMagenta | 0 |
LuminanceAdjustmentOrange | 0 |
LuminanceAdjustmentPurple | 0 |
LuminanceAdjustmentRed | +100 |
LuminanceAdjustmentYellow | 0 |
LuminanceNoiseReductionContrast | 47 |
LuminanceNoiseReductionDetail | 50 |
LuminanceSmoothing | 44 |
Make | NIKON CORPORATION |
MaxApertureValue | 2.8 |
Megapixels | 5.5 |
MeteringMode | Multi-segment |
Model | NIKON D3S |
ModifyDate (1) | 2016:06:09 19:08:16+02:00 |
ModifyDate | 2016:06:09 19:08:16 |
Orientation | Horizontal (normal) |
PaintCorrectionActive | true |
PaintCorrectionAmount | 1.000000 |
PaintCorrectionBrightness | 0.000000 |
PaintCorrectionClarity2012 (5) | 0.587229 |
PaintCorrectionClarity2012 (8) | 0.583600 |
PaintCorrectionClarity2012 | 0.013656 |
PaintCorrectionContrast2012 | 0.000000 |
PaintCorrectionDefringe | 0.000000 |
PaintCorrectionExposure2012 (1) | 0.204048 |
PaintCorrectionExposure2012 (2) | -0.062377 |
PaintCorrectionExposure2012 (3) | 0.047060 |
PaintCorrectionExposure2012 (4) | -0.220842 |
PaintCorrectionExposure2012 (5) | -0.209277 |
PaintCorrectionExposure2012 (6) | -0.245694 |
PaintCorrectionExposure2012 (7) | 0.077018 |
PaintCorrectionExposure2012 (8) | 0.028420 |
PaintCorrectionExposure2012 (9) | 0.041277 |
PaintCorrectionExposure2012 | -0.159387 |
PaintCorrectionHighlights2012 (5) | 0.520362 |
PaintCorrectionHighlights2012 | 0.000000 |
PaintCorrectionHue | 13.105500 |
PaintCorrectionLocalBlacks2012 | 0.000000 |
PaintCorrectionLocalWhites2012 (1) | -0.105500 |
PaintCorrectionLocalWhites2012 (2) | 0.058686 |
PaintCorrectionLocalWhites2012 (3) | -0.127891 |
PaintCorrectionLocalWhites2012 (4) | -0.191868 |
PaintCorrectionLocalWhites2012 (5) | -0.295583 |
PaintCorrectionLocalWhites2012 (6) | 0.137180 |
PaintCorrectionLocalWhites2012 (7) | 0.082431 |
PaintCorrectionLocalWhites2012 (8) | 0.039309 |
PaintCorrectionLocalWhites2012 (9) | -0.064284 |
PaintCorrectionLocalWhites2012 | 0.416708 |
PaintCorrectionLuminanceNoise (8) | 0.769070 |
PaintCorrectionLuminanceNoise (9) | 0.826833 |
PaintCorrectionLuminanceNoise | 0.000000 |
PaintCorrectionMaskCenterWeight | 0.000000 |
PaintCorrectionMaskFlow (3) | 0.648596 |
PaintCorrectionMaskFlow | 1.000000 |
PaintCorrectionMaskRadius (13) | 0.154754 |
PaintCorrectionMaskRadius (14) | 0.160895 |
PaintCorrectionMaskRadius (15) | 0.119491 |
PaintCorrectionMaskRadius (17) | 0.076693 |
PaintCorrectionMaskRadius (18) | 0.015876 |
PaintCorrectionMaskRadius (19) | 0.031249 |
PaintCorrectionMaskRadius (24) | 0.074487 |
PaintCorrectionMaskRadius (25) | 0.114018 |
PaintCorrectionMaskRadius (27) | 0.069854 |
PaintCorrectionMaskRadius (3) | 0.029976 |
PaintCorrectionMaskRadius (36) | 0.027303 |
PaintCorrectionMaskRadius (40) | 0.060795 |
PaintCorrectionMaskRadius (43) | 0.043500 |
PaintCorrectionMaskRadius (48) | 0.108836 |
PaintCorrectionMaskRadius (50) | 0.009166 |
PaintCorrectionMaskRadius (53) | 0.004530 |
PaintCorrectionMaskRadius (54) | 0.015298 |
PaintCorrectionMaskRadius (9) | 0.086940 |
PaintCorrectionMaskRadius | 0.001662 |
PaintCorrectionMaskValue (3) | 0.736252 |
PaintCorrectionMaskValue | 1.000000 |
PaintCorrectionMaskWhat | Mask/Paint |
PaintCorrectionMoire | 0.000000 |
PaintCorrectionSaturation | 0.000000 |
PaintCorrectionShadows2012 (3) | 0.794045 |
PaintCorrectionShadows2012 | -0.016197 |
PaintCorrectionSharpness (8) | 0.579417 |
PaintCorrectionSharpness (9) | 0.065145 |
PaintCorrectionSharpness | 0.017111 |
PaintCorrectionTemperature (7) | 0.279343 |
PaintCorrectionTemperature | 0.000000 |
PaintCorrectionTint (7) | 0.180918 |
PaintCorrectionTint | 0.000000 |
PaintCorrectionWhat | Correction |
ParametricDarks | 0 |
ParametricHighlights | 0 |
ParametricHighlightSplit | 75 |
ParametricLights | 0 |
ParametricMidtoneSplit | 50 |
ParametricShadows | 0 |
ParametricShadowSplit | 25 |
PerspectiveAspect | 0 |
PerspectiveHorizontal | 0 |
PerspectiveRotate | 0.0 |
PerspectiveScale | 100 |
PerspectiveUpright | 0 |
PerspectiveVertical | 0 |
PostCropVignetteAmount | 0 |
ProcessVersion | 6.7 |
ProfileDescription | sRGB IEC61966-2.1 |
Rating | 5 |
RawFileName | DSC_2273-1.jpg |
RedHue | 0 |
RedSaturation | 0 |
Saturation (1) | 0 |
Saturation | Normal |
SaturationAdjustmentAqua | 0 |
SaturationAdjustmentBlue | 0 |
SaturationAdjustmentGreen | 0 |
SaturationAdjustmentMagenta | 0 |
SaturationAdjustmentOrange | 0 |
SaturationAdjustmentPurple | 0 |
SaturationAdjustmentRed | +28 |
SaturationAdjustmentYellow | 0 |
ScaleFactor35efl | 1.0 |
SceneCaptureType | Standard |
SceneType | Directly photographed |
SensingMethod | One-chip color area |
SerialNumber | 2058033 |
Shadows2012 | +1 |
ShadowTint | 0 |
SharpenDetail | 34 |
SharpenEdgeMasking | 39 |
SharpenRadius | +1.3 |
Sharpness (1) | 48 |
Sharpness | Normal |
ShutterSpeed | 1/50 |
ShutterSpeedValue | 1/50 |
Software | Adobe Photoshop Lightroom 6.1 (Macintosh) |
SplitToningBalance | 0 |
SplitToningHighlightHue | 0 |
SplitToningHighlightSaturation | 0 |
SplitToningShadowHue | 0 |
SplitToningShadowSaturation | 0 |
SubjectDistanceRange | Unknown |
Tint | +13 |
ToneCurve | 0, 0, 255, 255 |
ToneCurveBlue | 0, 0, 255, 255 |
ToneCurveGreen | 0, 0, 255, 255 |
ToneCurveName | Linear |
ToneCurveName2012 | Linear |
ToneCurvePV2012 | 0, 0, 255, 255 |
ToneCurvePV2012Blue | 0, 0, 255, 255 |
ToneCurvePV2012Green | 0, 0, 255, 255 |
ToneCurvePV2012Red | 0, 0, 255, 255 |
ToneCurveRed | 0, 0, 255, 255 |
ToneMapStrength | 0 |
Version | 9.1 |
Vibrance | 0 |
VignetteAmount | 0 |
WhiteBalance (1) | Custom |
WhiteBalance | Manual |
Whites2012 | +34 |