Felt | Verdi |
AlreadyApplied | True |
Aperture | 5.0 |
ApertureValue | 5.0 |
AutoLateralCA | 0 |
AutoWhiteVersion | 134348800 |
BitsPerSample | 8 |
Blacks2012 | 0 |
BlueHue | 0 |
BlueSaturation | 0 |
BrightnessValue | 4.165625 |
CameraProfile | Adobe Standard |
CircleOfConfusion | 0.030 mm |
Clarity2012 | +4 |
ColorComponents | 3 |
ColorNoiseReduction | 25 |
ColorNoiseReductionDetail | 50 |
ColorNoiseReductionSmoothness | 50 |
ColorSpace | sRGB |
ColorTemperature | 5450 |
ColorTransform | YCbCr |
Contrast | Normal |
Contrast2012 | 0 |
ConvertToGrayscale | False |
CreateDate | 2016:10:06 18:57:29 |
CreatorTool | Adobe Photoshop Lightroom 6.10 (Macintosh) |
CropAngle | -0.443841 |
CropBottom | 0.988514 |
CropConstrainToWarp | 0 |
CropLeft | 0.003191 |
CropRight | 0.996809 |
CropTop | 0.011486 |
CustomRendered | Normal |
DateCreated (1) | 2016:10:06 |
DateCreated | 2016:10:06 18:57:29 |
DateTimeOriginal | 2016:10:06 18:57:29 |
DefringeGreenAmount | 0 |
DefringeGreenHueHi | 60 |
DefringeGreenHueLo | 40 |
DefringePurpleAmount | 0 |
DefringePurpleHueHi | 70 |
DefringePurpleHueLo | 30 |
Dehaze | 0 |
DigitalZoomRatio | 1 |
Exposure2012 | 0.00 |
ExposureCompensation | 0 |
ExposureMode | Manual |
ExposureProgram | Manual |
ExposureTime | 1/125 |
Flash | Off, Did not fire |
FNumber | 5.0 |
FocalLength | 50.0 mm |
FocalLength35efl | 50.0 mm (35 mm equivalent: 50.0 mm) |
FocalLengthIn35mmFormat | 50 mm |
Format | image/jpeg |
FOV | 39.6 deg |
GrainAmount | 0 |
GreenHue | 0 |
GreenSaturation | 0 |
HasCrop | True |
HasExtendedXMP | 789D4135D20392CCE347CD1FE22C5C85 |
HasSettings | True |
Highlights2012 | 0 |
HueAdjustmentAqua | 0 |
HueAdjustmentBlue | 0 |
HueAdjustmentGreen | 0 |
HueAdjustmentMagenta | 0 |
HueAdjustmentOrange | 0 |
HueAdjustmentPurple | 0 |
HueAdjustmentRed | 0 |
HueAdjustmentYellow | 0 |
HyperfocalDistance | 16.64 m |
ImageHeight | 3954 |
ImageSize | 5931x3954 |
ImageWidth | 5931 |
ISO | 160 |
LateralChromaticAberrationCorrectionAlreadyApplied | True |
Lens | FE 50mm F2.8 Macro |
LensDistortInfo | 1073725178/1073741824 -2923148/1073741824 2976686/1073741824 -71161/1073741824 |
LensInfo | 50mm f/2.8 |
LensManualDistortionAmount | 0 |
LensModel | FE 50mm F2.8 Macro |
LensProfileEnable | 0 |
LensProfileSetup | LensDefaults |
LightSource | Unknown |
LightValue | 10.9 |
LuminanceAdjustmentAqua | +36 |
LuminanceAdjustmentBlue | +68 |
LuminanceAdjustmentGreen | +57 |
LuminanceAdjustmentMagenta | 0 |
LuminanceAdjustmentOrange | +49 |
LuminanceAdjustmentPurple | 0 |
LuminanceAdjustmentRed | +39 |
LuminanceAdjustmentYellow | +57 |
LuminanceNoiseReductionContrast | 0 |
LuminanceNoiseReductionDetail | 50 |
LuminanceSmoothing | 20 |
Make | SONY |
MaxApertureValue | 2.8 |
Megapixels | 23.5 |
MeteringMode | Multi-segment |
Model | ILCE-7M2 |
ModifyDate (1) | 2017:05:18 20:37:33+02:00 |
ModifyDate | 2017:05:18 20:37:33 |
PaintCorrectionActive | true |
PaintCorrectionAmount | 1.000000 |
PaintCorrectionBrightness | 0.000000 |
PaintCorrectionClarity2012 (14) | 0.456555 |
PaintCorrectionClarity2012 (16) | 0.478563 |
PaintCorrectionClarity2012 (2) | 0.532012 |
PaintCorrectionClarity2012 (3) | 0.403678 |
PaintCorrectionClarity2012 (5) | 0.265244 |
PaintCorrectionClarity2012 (6) | 0.450076 |
PaintCorrectionClarity2012 (7) | 0.478754 |
PaintCorrectionClarity2012 (9) | 0.178258 |
PaintCorrectionClarity2012 | 0.000000 |
PaintCorrectionContrast2012 (9) | -0.232470 |
PaintCorrectionContrast2012 | 0.000000 |
PaintCorrectionDefringe | 0.000000 |
PaintCorrectionExposure2012 (1) | 0.000000 |
PaintCorrectionExposure2012 (2) | 0.146341 |
PaintCorrectionExposure2012 (6) | 0.097561 |
PaintCorrectionExposure2012 | -0.034483 |
PaintCorrectionHighlights2012 (10) | -0.222561 |
PaintCorrectionHighlights2012 (11) | -0.263148 |
PaintCorrectionHighlights2012 (12) | 0.000000 |
PaintCorrectionHighlights2012 (14) | 0.656059 |
PaintCorrectionHighlights2012 (16) | 0.385385 |
PaintCorrectionHighlights2012 (2) | 0.255526 |
PaintCorrectionHighlights2012 (3) | 0.286014 |
PaintCorrectionHighlights2012 (5) | 0.247237 |
PaintCorrectionHighlights2012 (6) | 0.272104 |
PaintCorrectionHighlights2012 (7) | 0.320027 |
PaintCorrectionHighlights2012 (9) | -0.095846 |
PaintCorrectionHighlights2012 | -0.226652 |
PaintCorrectionHue | 0.000000 |
PaintCorrectionLocalBlacks2012 (5) | 0.006574 |
PaintCorrectionLocalBlacks2012 (8) | 0.121951 |
PaintCorrectionLocalBlacks2012 | 0.000000 |
PaintCorrectionLocalDehaze (3) | 0.000000 |
PaintCorrectionLocalDehaze (6) | 0.114520 |
PaintCorrectionLocalDehaze | 0.277153 |
PaintCorrectionLocalWhites2012 (1) | 0.200553 |
PaintCorrectionLocalWhites2012 (2) | 0.302973 |
PaintCorrectionLocalWhites2012 (4) | 0.285061 |
PaintCorrectionLocalWhites2012 (8) | 0.136909 |
PaintCorrectionLocalWhites2012 | 0.000000 |
PaintCorrectionLuminanceNoise (15) | 0.356421 |
PaintCorrectionLuminanceNoise | 0.000000 |
PaintCorrectionMaskCenterWeight | 0.000000 |
PaintCorrectionMaskFlow | 1.000000 |
PaintCorrectionMaskRadius (1) | 0.059985 |
PaintCorrectionMaskRadius (107) | 0.026832 |
PaintCorrectionMaskRadius (136) | 0.111328 |
PaintCorrectionMaskRadius (15) | 0.151523 |
PaintCorrectionMaskRadius (150) | 0.053120 |
PaintCorrectionMaskRadius (151) | 0.009744 |
PaintCorrectionMaskRadius (168) | 0.023307 |
PaintCorrectionMaskRadius (173) | 0.039741 |
PaintCorrectionMaskRadius (174) | 0.016920 |
PaintCorrectionMaskRadius (28) | 0.088620 |
PaintCorrectionMaskRadius (31) | 0.006095 |
PaintCorrectionMaskRadius (35) | 0.002640 |
PaintCorrectionMaskRadius (54) | 0.046372 |
PaintCorrectionMaskRadius (61) | 0.008507 |
PaintCorrectionMaskRadius (70) | 0.033228 |
PaintCorrectionMaskRadius (77) | 0.127054 |
PaintCorrectionMaskRadius (82) | 0.066968 |
PaintCorrectionMaskRadius (87) | 0.012285 |
PaintCorrectionMaskRadius (91) | 0.004922 |
PaintCorrectionMaskRadius (96) | 0.007290 |
PaintCorrectionMaskRadius | 0.008176 |
PaintCorrectionMaskValue | 1.000000 |
PaintCorrectionMaskWhat | Mask/Paint |
PaintCorrectionMoire | 0.000000 |
PaintCorrectionSaturation (13) | 0.052020 |
PaintCorrectionSaturation | 0.000000 |
PaintCorrectionShadows2012 (11) | -0.209794 |
PaintCorrectionShadows2012 (12) | 0.404059 |
PaintCorrectionShadows2012 (13) | -0.381383 |
PaintCorrectionShadows2012 (14) | 0.051162 |
PaintCorrectionShadows2012 (15) | 0.000000 |
PaintCorrectionShadows2012 (16) | 0.440644 |
PaintCorrectionShadows2012 (17) | -0.330697 |
PaintCorrectionShadows2012 (2) | 0.286300 |
PaintCorrectionShadows2012 (3) | 0.261623 |
PaintCorrectionShadows2012 (4) | 0.436261 |
PaintCorrectionShadows2012 (5) | 0.314024 |
PaintCorrectionShadows2012 (6) | 0.272104 |
PaintCorrectionShadows2012 (7) | 0.287252 |
PaintCorrectionShadows2012 (8) | 0.323742 |
PaintCorrectionShadows2012 (9) | 0.253239 |
PaintCorrectionShadows2012 | -0.057022 |
PaintCorrectionSharpness | 0.000000 |
PaintCorrectionTemperature (12) | 0.094417 |
PaintCorrectionTemperature (4) | 0.121951 |
PaintCorrectionTemperature (5) | -0.173876 |
PaintCorrectionTemperature (9) | -0.249238 |
PaintCorrectionTemperature | 0.000000 |
PaintCorrectionTint | 0.000000 |
PaintCorrectionWhat | Correction |
ParametricDarks | 0 |
ParametricHighlights | 0 |
ParametricHighlightSplit | 75 |
ParametricLights | +23 |
ParametricMidtoneSplit | 50 |
ParametricShadows | +8 |
ParametricShadowSplit | 25 |
PerspectiveAspect | 0 |
PerspectiveHorizontal | 0 |
PerspectiveRotate | 0.0 |
PerspectiveScale | 100 |
PerspectiveUpright | 0 |
PerspectiveVertical | 0 |
PerspectiveX | 0.00 |
PerspectiveY | 0.00 |
PostCropVignetteAmount | 0 |
ProcessVersion | 6.7 |
ProfileDescription | sRGB IEC61966-2.1 |
RecommendedExposureIndex | 160 |
RedHue | 0 |
RedSaturation | 0 |
Saturation (1) | 0 |
Saturation | Normal |
SaturationAdjustmentAqua | +42 |
SaturationAdjustmentBlue | +43 |
SaturationAdjustmentGreen | +17 |
SaturationAdjustmentMagenta | 0 |
SaturationAdjustmentOrange | +4 |
SaturationAdjustmentPurple | 0 |
SaturationAdjustmentRed | +22 |
SaturationAdjustmentYellow | +8 |
ScaleFactor35efl | 1.0 |
SceneCaptureType | Standard |
SceneType | Directly photographed |
SensitivityType | Recommended Exposure Index |
Shadows2012 | 0 |
ShadowTint | 0 |
SharpenDetail | 25 |
SharpenEdgeMasking | 0 |
SharpenRadius | +1.0 |
Sharpness (1) | 25 |
Sharpness | Normal |
ShutterSpeed | 1/125 |
ShutterSpeedValue | 1/125 |
Software | Adobe Photoshop Lightroom 6.10 (Macintosh) |
SplitToningBalance | 0 |
SplitToningHighlightHue | 0 |
SplitToningHighlightSaturation | 0 |
SplitToningShadowHue | 0 |
SplitToningShadowSaturation | 0 |
Tint | -31 |
ToneCurve | 0, 0, 255, 255 |
ToneCurveBlue | 0, 0, 255, 255 |
ToneCurveGreen | 0, 0, 255, 255 |
ToneCurveName | Linear |
ToneCurveName2012 | Linear |
ToneCurvePV2012 | 0, 0, 255, 255 |
ToneCurvePV2012Blue | 0, 0, 255, 255 |
ToneCurvePV2012Green | 0, 0, 255, 255 |
ToneCurvePV2012Red | 0, 0, 255, 255 |
ToneCurveRed | 0, 0, 255, 255 |
ToneMapStrength | 0 |
Version | 9.10 |
Vibrance | 0 |
VignetteAmount | 0 |
WhiteBalance (1) | As Shot |
WhiteBalance | Auto |
Whites2012 | 0 |