Felt | Verdi |
AlreadyApplied | True |
Aperture | 6.3 |
ApertureValue | 6.3 |
AuthorsPosition | |
BitsPerSample | 8 |
BlueHue | 0 |
BlueSaturation | 0 |
Brightness | +70 |
By-line | Runar DamgŒrd |
CameraProfile | ACR 2.4 |
ChromaticAberrationB | 0 |
ChromaticAberrationR | 0 |
CircleOfConfusion | 0.019 mm |
ColorComponents | 3 |
ColorNoiseReduction | 25 |
ColorTemperature | 4850 |
Contrast | +33 |
ConvertToGrayscale | False |
Copyright | 2006 Runar Damgaard |
CopyrightNotice | 2006 Runar Damgaard |
CreateDate | 2005:11:20 15:57:13 |
Creator (1) | Runar DamgÂrd |
Creator | Runar Damgård |
CreatorAddress | Alvestien 5 |
CreatorCity | Kristiansand |
CreatorCountry | Norway |
CreatorPostalCode | 4638 |
CreatorTool | Adobe Photoshop Lightroom |
CreatorWorkEmail | |
CreatorWorkTelephone | +47 971 56 533 |
CreatorWorkURL | |
CropAngle | 0.764509 |
CropBottom | 0.742845 |
CropHeight | 709 |
CropLeft | 0.216626 |
CropRight | 0.930618 |
CropTop | 0.008026 |
CropUnit | pixels |
CropWidth | 1063 |
CustomRendered | Normal |
DateTimeDigitized | 2005:11:20 15:57:13Z |
DateTimeOriginal (1) | 2005:11:20 15:57:13Z |
DateTimeOriginal | 2005:11:20 15:57:13 |
Exposure | +0.06 |
ExposureCompensation | 0 |
ExposureMode | Auto |
ExposureProgram | Aperture-priority AE |
ExposureTime | 1/1250 |
FillLight | 0 |
Firmware | 1.1.0 |
Flash | Off, Did not fire |
FlashCompensation | 0 |
FlashFired | False |
FlashFunction | False |
FlashMode | Off |
FlashRedEyeMode | False |
FlashReturn | No return detection |
FNumber | 6.3 |
FocalLength | 28.0 mm |
FocalLength35efl | 28.0 mm (35 mm equivalent: 44.8 mm) |
FOV | 43.7 deg |
GreenHue | 0 |
GreenSaturation | 0 |
HasCrop | True |
HasSettings | True |
HighlightRecovery | 0 |
HueAdjustmentAqua | 0 |
HueAdjustmentBlue | 0 |
HueAdjustmentGreen | 0 |
HueAdjustmentMagenta | 0 |
HueAdjustmentOrange | 0 |
HueAdjustmentPurple | 0 |
HueAdjustmentRed | 0 |
HueAdjustmentYellow | 0 |
HyperfocalDistance | 6.63 m |
ImageHeight | 709 |
ImageNumber | 81 |
ImageSize | 1063x709 |
ImageWidth | 1063 |
ISO | 100 |
Keywords | Cherhill, England, Motiv, Omgivelse, Steder, Storbritania, TŒke, V¾r, Wiltshire, slandskap |
Label | Green |
Lens | 28.0-70.0 mm |
LensInfo | 28-70mm f/? |
LightValue | 15.6 |
LuminanceAdjustmentAqua | 0 |
LuminanceAdjustmentBlue | 0 |
LuminanceAdjustmentGreen | 0 |
LuminanceAdjustmentMagenta | 0 |
LuminanceAdjustmentOrange | 0 |
LuminanceAdjustmentPurple | 0 |
LuminanceAdjustmentRed | 0 |
LuminanceAdjustmentYellow | 0 |
LuminanceSmoothing | 0 |
Make | Canon |
MaxApertureValue | 2.8 |
Megapixels | 0.754 |
MeteringMode | Multi-segment |
Model | Canon EOS 20D |
ModifyDate (1) | 2007:05:13 00:05:13+02:00 |
ModifyDate | 2007:05:13 00:05:13 |
ObjectName | nil |
OwnerName | Runar DamgÂrd |
ParametricDarks | -32 |
ParametricHighlights | -4 |
ParametricHighlightSplit | 75 |
ParametricLights | +26 |
ParametricMidtoneSplit | 50 |
ParametricShadows | -14 |
ParametricShadowSplit | 25 |
ProfileDescription | Adobe RGB (1998) |
Rating | 3 |
RedHue | 0 |
RedSaturation | 0 |
Rights | 2006 Runar Damgaard |
Saturation | 0 |
SaturationAdjustmentAqua | 0 |
SaturationAdjustmentBlue | 0 |
SaturationAdjustmentGreen | 0 |
SaturationAdjustmentMagenta | 0 |
SaturationAdjustmentOrange | 0 |
SaturationAdjustmentPurple | 0 |
SaturationAdjustmentRed | 0 |
SaturationAdjustmentYellow | 0 |
ScaleFactor35efl | 1.6 |
SceneCaptureType | Standard |
SerialNumber | 330120642 |
Shadows | 30 |
ShadowTint | 0 |
Sharpness | 25 |
ShutterSpeed | 1/1250 |
ShutterSpeedValue | 1/1250 |
SplitToningBalance | 0 |
SplitToningHighlightHue | 0 |
SplitToningHighlightSaturation | 0 |
SplitToningShadowHue | 0 |
SplitToningShadowSaturation | 0 |
Subject | Cherhill, England, Motiv, Omgivelse, Steder, Storbritania, Tåke, Vær, Wiltshire, Åslandskap |
Tint | +3 |
Title | nil |
ToneCurve | 0, 0, 255, 255 |
ToneCurveName | Linear |
UsageTerms | nil |
Version | 1.0 |
Vibrance | +30 |
VignetteAmount | +1 |
VignetteMidpoint | 51 |
WhiteBalance (2) | As Shot |
WhiteBalance | Auto |