Felt | Verdi |
AlreadyApplied | True |
Aperture | 5.6 |
ApertureValue | 5.6 |
Artist | Per R. Gustavsen |
BitsPerSample | 8 |
BlueHue | 0 |
BlueSaturation | 0 |
Brightness | +50 |
By-line | Per R. Gustavsen |
CameraProfile | ACR 4.4 |
Caption-Abstract | Usa 2008 |
Category (1) | Nat |
Category | Naturbilder |
ChromaticAberrationB | 0 |
ChromaticAberrationR | 0 |
CircleOfConfusion | 0.019 mm |
Clarity | 42 |
ColorComponents | 3 |
ColorMode | RGB |
ColorNoiseReduction | 25 |
ColorSpace (1) | Unknown (-1) |
ColorSpace | Uncalibrated |
ColorTemperature | 5200 |
Contrast | -11 |
ConvertToGrayscale | False |
Copyright | Per R. Gustavsen |
CopyrightFlag | True |
CopyrightNotice | Per R. Gustavsen |
Country | Usa |
Country-PrimaryLocationName | Usa |
CreateDate (1) | 2008:05:09 09:34:12+02:00 |
CreateDate | 2008:04:25 20:49:37 |
Creator | Per R. Gustavsen |
CreatorAddress | Ormeletveien 55b |
CreatorCity | Tjøme |
CreatorCountry | Norway |
CreatorPostalCode | 3145 |
CreatorRegion | Vestfold |
CreatorTool | Adobe Photoshop CS3 Windows |
CreatorWorkEmail | pergust@online.no |
CreatorWorkTelephone | 92424443 |
CropAngle | 0 |
CropBottom | 0.942857 |
CropHeight | 1965 |
CropLeft | 0 |
CropRight | 1 |
CropTop | 0.184615 |
CropUnit | pixels |
CropWidth | 3888 |
CustomRendered | Normal |
DateTimeDigitized | 2008:04:25 20:49:37.00+02:00 |
DateTimeOriginal (1) | 2008:04:25 20:49:37.00+02:00 |
DateTimeOriginal | 2008:04:25 20:49:37 |
Defringe | 0 |
Description | Usa 2008 |
ExifImageHeight | 404 |
ExifImageWidth | 800 |
Exposure | -0.48 |
ExposureCompensation | 0 |
ExposureMode | Auto bracket |
ExposureProgram | Not Defined |
ExposureTime | 1/400 |
FillLight | 0 |
Firmware | 1.0.4 |
Flash | Off, Did not fire |
FlashCompensation | 0 |
FlashFired | False |
FlashFunction | False |
FlashMode | Off |
FlashRedEyeMode | False |
FlashReturn | No return detection |
FNumber | 5.6 |
FocalLength | 59.0 mm |
FocalLength35efl | 59.0 mm (35 mm equivalent: 95.5 mm) |
Format | image/jpeg |
FOV | 21.3 deg |
GreenHue | 0 |
GreenSaturation | 0 |
HasCrop | True |
HasSettings | True |
Headline | Vally of fire Nevada |
HighlightRecovery | 20 |
HueAdjustmentAqua | 0 |
HueAdjustmentBlue | 0 |
HueAdjustmentGreen | 0 |
HueAdjustmentMagenta | 0 |
HueAdjustmentOrange | 0 |
HueAdjustmentPurple | 0 |
HueAdjustmentRed | 0 |
HueAdjustmentYellow | 0 |
HyperfocalDistance | 33.49 m |
ICCProfileName | Adobe RGB (1998) |
ImageDescription | Usa 2008 |
ImageHeight (1) | 1965 |
ImageHeight | 404 |
ImageNumber | 0 |
ImageSize | 800x404 |
ImageWidth (1) | 3888 |
ImageWidth | 800 |
ISO | 100 |
Keywords | Vally Of Fire Nevada |
Lens | EF-S17-85mm f/4-5.6 IS USM |
LensInfo | 17-85mm f/? |
LightValue | 13.6 |
Location | Vally of fire Nevada |
LuminanceAdjustmentAqua | 0 |
LuminanceAdjustmentBlue | 0 |
LuminanceAdjustmentGreen | 0 |
LuminanceAdjustmentMagenta | 0 |
LuminanceAdjustmentOrange | 0 |
LuminanceAdjustmentPurple | 0 |
LuminanceAdjustmentRed | 0 |
LuminanceAdjustmentYellow | 0 |
LuminanceSmoothing | 0 |
Make | Canon |
Marked | True |
MaxApertureValue | 5.7 |
Megapixels | 0.323 |
MeteringMode | Center-weighted average |
Model | Canon EOS 40D |
ModifyDate (1) | 2008:05:09 09:41:46+02:00 |
ModifyDate | 2008:05:09 09:41:46 |
Orientation | Horizontal (normal) |
ParametricDarks | 0 |
ParametricHighlights | 0 |
ParametricHighlightSplit | 75 |
ParametricLights | 0 |
ParametricMidtoneSplit | 50 |
ParametricShadows | 0 |
ParametricShadowSplit | 25 |
ProfileDescription | Adobe RGB (1998) |
Province-State | Nevada |
RedHue | 0 |
RedSaturation | 0 |
Rights | Per R. Gustavsen |
Saturation | +24 |
SaturationAdjustmentAqua | 0 |
SaturationAdjustmentBlue | 0 |
SaturationAdjustmentGreen | 0 |
SaturationAdjustmentMagenta | 0 |
SaturationAdjustmentOrange | 0 |
SaturationAdjustmentPurple | 0 |
SaturationAdjustmentRed | 0 |
SaturationAdjustmentYellow | 0 |
ScaleFactor35efl | 1.6 |
SceneCaptureType | Standard |
SerialNumber | 630331995 |
Shadows | 18 |
ShadowTint | 0 |
SharpenDetail | 25 |
SharpenEdgeMasking | 0 |
SharpenRadius | +1.0 |
Sharpness | 25 |
ShutterSpeed | 1/400 |
ShutterSpeedValue | 1/400 |
Software | Adobe Photoshop CS3 Windows |
SplitToningBalance | 0 |
SplitToningHighlightHue | 0 |
SplitToningHighlightSaturation | 0 |
SplitToningShadowHue | 0 |
SplitToningShadowSaturation | 0 |
State | Nevada |
Sub-location | Vally of fire Nevada |
Subject | Vally Of Fire Nevada |
Tint | -2 |
ToneCurve | 0, 0, 32, 22, 64, 56, 128, 128, 192, 196, 255, 255 |
ToneCurveName | Medium Contrast |
URL_List | |
Version | 4.4.1 |
Vibrance | +62 |
VignetteAmount | 0 |
WhiteBalance (2) | As Shot |
WhiteBalance | Auto |