Felt | Verdi |
AlreadyApplied | True |
Aperture | 5.6 |
ApertureValue | 5.6 |
Artist | unknown |
BitsPerSample | 8 |
BlueHue | 0 |
BlueSaturation | 0 |
Brightness | +50 |
By-line | unknown |
CameraProfile | ACR 3.6 |
ChromaticAberrationB | 0 |
ChromaticAberrationR | 0 |
CircleOfConfusion | 0.019 mm |
Clarity | 60 |
ColorComponents | 3 |
ColorMode | RGB |
ColorNoiseReduction | 25 |
ColorSpace | sRGB |
ColorTemperature | 4619 |
Contrast | +68 |
ConvertToGrayscale | False |
CopyrightFlag | False |
CreateDate (1) | 2008:07:20 01:59:57+02:00 |
CreateDate | 2008:07:13 19:52:46 |
Creator | unknown |
CreatorTool | Adobe Photoshop CS3 Windows |
CustomRendered | Normal |
DateTimeDigitized | 2008:07:13 19:52:46+02:00 |
DateTimeOriginal (1) | 2008:07:13 19:52:46+02:00 |
DateTimeOriginal | 2008:07:13 19:52:46 |
Defringe | 0 |
DerivedFrom | |
ExifImageHeight | 683 |
ExifImageWidth | 1024 |
Exposure | +1.15 |
ExposureCompensation | 0 |
ExposureMode | Manual |
ExposureProgram | Manual |
ExposureTime | 1/250 |
FillLight | 42 |
Firmware | 1.0.4 |
Flash | Off, Did not fire |
FlashCompensation | 0 |
FlashFired | False |
FlashFunction | False |
FlashMode | Off |
FlashRedEyeMode | False |
FlashReturn | No return detection |
FNumber | 5.6 |
FocalLength | 300.0 mm |
FocalLength35efl | 300.0 mm (35 mm equivalent: 485.5 mm) |
Format | image/jpeg |
FOV | 4.2 deg |
GreenHue | 0 |
GreenSaturation | 0 |
HasCrop | False |
HasSettings | True |
HighlightRecovery | 0 |
HueAdjustmentAqua | 0 |
HueAdjustmentBlue | 0 |
HueAdjustmentGreen | 0 |
HueAdjustmentMagenta | 0 |
HueAdjustmentOrange | 0 |
HueAdjustmentPurple | 0 |
HueAdjustmentRed | 0 |
HueAdjustmentYellow | 0 |
HyperfocalDistance | 865.65 m |
ICCProfileName | sRGB IEC61966-2.1 |
ImageHeight (1) | 2592 |
ImageHeight | 683 |
ImageNumber | 64 |
ImageSize | 1024x683 |
ImageWidth (1) | 3888 |
ImageWidth | 1024 |
ISO | 100 |
Lens | 70.0-300.0 mm |
LensInfo | 70-300mm f/? |
LightValue | 12.9 |
LuminanceAdjustmentAqua | +48 |
LuminanceAdjustmentBlue | +31 |
LuminanceAdjustmentGreen | +45 |
LuminanceAdjustmentMagenta | 0 |
LuminanceAdjustmentOrange | -31 |
LuminanceAdjustmentPurple | -12 |
LuminanceAdjustmentRed | +29 |
LuminanceAdjustmentYellow | +52 |
LuminanceSmoothing | 0 |
Make | Canon |
MaxApertureValue | 4.5 |
Megapixels | 0.699 |
MeteringMode | Multi-segment |
Model | Canon EOS 400D DIGITAL |
ModifyDate (1) | 2008:07:20 02:00:06+02:00 |
ModifyDate | 2008:07:20 02:00:06 |
Orientation | Horizontal (normal) |
OwnerName | unknown |
ParametricDarks | 0 |
ParametricHighlights | 0 |
ParametricHighlightSplit | 75 |
ParametricLights | 0 |
ParametricMidtoneSplit | 50 |
ParametricShadows | 0 |
ParametricShadowSplit | 25 |
ProfileDescription | sRGB IEC61966-2.1 |
RedHue | 0 |
RedSaturation | 0 |
Saturation | -21 |
SaturationAdjustmentAqua | +17 |
SaturationAdjustmentBlue | +7 |
SaturationAdjustmentGreen | -95 |
SaturationAdjustmentMagenta | 0 |
SaturationAdjustmentOrange | 0 |
SaturationAdjustmentPurple | 0 |
SaturationAdjustmentRed | 0 |
SaturationAdjustmentYellow | -67 |
ScaleFactor35efl | 1.6 |
SceneCaptureType | Standard |
SerialNumber | 730372093 |
Shadows | 3 |
ShadowTint | 0 |
SharpenDetail | 54 |
SharpenEdgeMasking | 70 |
SharpenRadius | +1.6 |
Sharpness | 73 |
ShutterSpeed | 1/250 |
ShutterSpeedValue | 1/250 |
Software | Adobe Photoshop CS3 Windows |
SplitToningBalance | 0 |
SplitToningHighlightHue | 0 |
SplitToningHighlightSaturation | 0 |
SplitToningShadowHue | 0 |
SplitToningShadowSaturation | 0 |
Tint | +14 |
ToneCurve | 0, 0, 32, 22, 64, 56, 128, 128, 192, 196, 255, 255 |
ToneCurveName | Medium Contrast |
URL_List | |
Version | 1.0 |
Vibrance | -14 |
VignetteAmount | -67 |
VignetteMidpoint | 12 |
WhiteBalance (2) | Custom |
WhiteBalance | Manual |