Felt | Verdi |
AlreadyApplied | True |
Aperture | 6.3 |
ApertureValue | 6.3 |
Aux | http://ns.adobe.com/exif/1.0/aux/ |
BitsPerSample | 8 |
BlueHue | 0 |
BlueSaturation | 0 |
Brightness | -1 |
CameraProfile | Embedded |
CFAPattern | [Red,Green][Green,Blue] |
ChromaticAberrationB | 0 |
ChromaticAberrationR | 0 |
CircleOfConfusion | 0.020 mm |
Clarity | +33 |
ColorComponents | 3 |
ColorMode | RGB |
ColorNoiseReduction | 37 |
ColorSpace | sRGB |
Contrast (2) | 0 |
Contrast | Normal |
ConvertToGrayscale | False |
CopyrightFlag | False |
CreateDate (1) | 2009:02:10 05:42:43+01:00 |
CreateDate | 2009:02:08 10:51:40 |
CreatorTool | Microsoft Windows Live Photo Gallery12.0.1347.718 |
Creatortool | Microsoft Windows Live Photo Gallery12.0.1347.718 |
CustomRendered | Normal |
DateTimeDigitized | 2009:02:08 10:51:40.34+01:00 |
DateTimeOriginal (1) | 2009:02:08 10:51:40.34+01:00 |
DateTimeOriginal | 2009:02:08 10:51:40 |
Defringe | 0 |
DerivedFrom | |
DigitalZoomRatio | 1 |
ExifImageHeight (1) | 763 |
ExifImageHeight | 651 |
ExifImageWidth (1) | 1200 |
ExifImageWidth | 988 |
Exposure | -0.45 |
ExposureCompensation | 0 |
ExposureMode | Auto |
ExposureProgram | Aperture-priority AE |
ExposureTime | 1/125 |
FillLight | 16 |
Flash (1) | |
Flash | No Flash |
FNumber | 6.3 |
FocalLength | 165.0 mm |
FocalLength35efl | 165.0 mm (35 mm equivalent: 247.0 mm) |
FocalLengthIn35mmFormat | 247 mm |
Format | image/jpeg |
FOV | 8.3 deg |
GainControl | Low gain up |
GreenHue | 0 |
GreenSaturation | 0 |
HasCrop | False |
HasSettings | True |
HighlightRecovery | 0 |
HueAdjustmentAqua | 0 |
HueAdjustmentBlue | 0 |
HueAdjustmentGreen | 0 |
HueAdjustmentMagenta | 0 |
HueAdjustmentOrange | 0 |
HueAdjustmentPurple | 0 |
HueAdjustmentRed | 0 |
HueAdjustmentYellow | 0 |
HyperfocalDistance | 215.30 m |
ICCProfileName | sRGB IEC61966-2.1 |
ImageHeight | 651 |
ImageNumber | 21690 |
ImageSize | 988x651 |
ImageWidth | 988 |
IncrementalTemperature | 0 |
IncrementalTint | 0 |
ISO | 800 |
Lens | 120.0-400.0 mm f/4.5-5.6 |
LensInfo | 120-400mm f/4.5-5.6 |
LightSource | Unknown |
LightValue | 9.3 |
LuminanceAdjustmentAqua | 0 |
LuminanceAdjustmentBlue | 0 |
LuminanceAdjustmentGreen | 0 |
LuminanceAdjustmentMagenta | 0 |
LuminanceAdjustmentOrange | 0 |
LuminanceAdjustmentPurple | 0 |
LuminanceAdjustmentRed | 0 |
LuminanceAdjustmentYellow | 0 |
LuminanceSmoothing | 38 |
Make | NIKON CORPORATION |
MaxApertureValue | 4.9 |
Megapixels | 0.643 |
MeteringMode | Spot |
Model | NIKON D300 |
ModifyDate (1) | 2009:02:10 05:42:43+01:00 |
ModifyDate | 2009:02:19 21:24:31 |
Orientation | Horizontal (normal) |
OriginatingProgram | Microsoft Windows Live Photo Gallery12.0.1347.718 |
ParametricDarks | -9 |
ParametricHighlights | 0 |
ParametricHighlightSplit | 75 |
ParametricLights | +11 |
ParametricMidtoneSplit | 50 |
ParametricShadows | 0 |
ParametricShadowSplit | 25 |
PostCropVignetteAmount | 0 |
ProfileDescription | sRGB IEC61966-2.1 |
Rating | 0 |
RawFileName | Mandarinand - 5.jpg |
RedHue | 0 |
RedSaturation | 0 |
Saturation (2) | 0 |
Saturation | Normal |
SaturationAdjustmentAqua | +12 |
SaturationAdjustmentBlue | +14 |
SaturationAdjustmentGreen | +11 |
SaturationAdjustmentMagenta | 0 |
SaturationAdjustmentOrange | +10 |
SaturationAdjustmentPurple | 0 |
SaturationAdjustmentRed | 0 |
SaturationAdjustmentYellow | +13 |
ScaleFactor35efl | 1.5 |
SceneCaptureType | Standard |
SceneType | Directly photographed |
SensingMethod | One-chip color area |
SerialNumber | 4068207 |
Shadows | 0 |
ShadowTint | 0 |
SharpenDetail | 25 |
SharpenEdgeMasking | 0 |
SharpenRadius | +1.0 |
Sharpness (2) | 0 |
Sharpness | Hard |
ShutterSpeed | 1/125 |
ShutterSpeedValue | 1/125 |
Software | Microsoft Windows Live Photo Gallery12.0.1347.718 |
SplitToningBalance | 0 |
SplitToningHighlightHue | 0 |
SplitToningHighlightSaturation | 0 |
SplitToningShadowHue | 0 |
SplitToningShadowSaturation | 0 |
SubjectDistanceRange | Unknown |
ToneCurve | 0, 11, 121, 130, 203, 222, 255, 252 |
ToneCurveName | Custom |
URL_List | |
Version | 4.6 |
Vibrance | +17 |
VignetteAmount | 0 |
WhiteBalance (2) | As Shot |
WhiteBalance | Auto |