Felt | Verdi |
AlreadyApplied | True |
Aperture | 13.0 |
ApertureValue | 13.0 |
Artist | unknown |
BitsPerSample | 8 |
BlueHue | 0 |
BlueSaturation | 0 |
Brightness | +50 |
By-line | unknown |
CameraProfile | ACR 3.6 |
ChromaticAberrationB | +56 |
ChromaticAberrationR | +54 |
CircleOfConfusion | 0.019 mm |
ColorComponents | 3 |
ColorMode | RGB |
ColorNoiseReduction | 25 |
ColorSpace (1) | Unknown (-1) |
ColorSpace | Uncalibrated |
ColorTemperature | 7550 |
Contrast | +25 |
ConvertToGrayscale | False |
CopyrightFlag | False |
CreateDate (1) | 2009:05:23 00:42:24+02:00 |
CreateDate | 2009:05:21 21:10:40 |
Creator | unknown |
CreatorTool | Adobe Photoshop CS3 Windows |
CustomRendered | Normal |
DateTimeDigitized | 2009:05:21 21:10:40+02:00 |
DateTimeOriginal (1) | 2009:05:21 21:10:40+02:00 |
DateTimeOriginal | 2009:05:21 21:10:40 |
ExifImageHeight | 2215 |
ExifImageWidth | 1476 |
Exposure | 0.00 |
ExposureCompensation | 0 |
ExposureMode | Manual |
ExposureProgram | Manual |
ExposureTime | 1/8 |
FillLight | 0 |
Firmware | 1.0.4 |
Flash | Off, Did not fire |
FlashCompensation | 0 |
FlashFired | False |
FlashFunction | False |
FlashMode | Off |
FlashRedEyeMode | False |
FlashReturn | No return detection |
FNumber | 13.0 |
FocalLength | 18.0 mm |
FocalLength35efl | 18.0 mm (35 mm equivalent: 29.1 mm) |
Format | image/jpeg |
FOV | 63.4 deg |
GreenHue | 0 |
GreenSaturation | 0 |
HasCrop | False |
HasSettings | True |
HighlightRecovery | 37 |
HueAdjustmentAqua | +13 |
HueAdjustmentBlue | +13 |
HueAdjustmentGreen | +2 |
HueAdjustmentMagenta | -6 |
HueAdjustmentOrange | +3 |
HueAdjustmentPurple | -6 |
HueAdjustmentRed | +28 |
HueAdjustmentYellow | +2 |
HyperfocalDistance | 1.34 m |
ICCProfileName | Adobe RGB (1998) |
ImageHeight | 2215 |
ImageNumber | 144 |
ImageSize | 1476x2215 |
ImageWidth | 1476 |
ISO | 100 |
Lens | EF-S18-55mm f/3.5-5.6 |
LensInfo | 18-55mm f/? |
LightValue | 10.4 |
LuminanceAdjustmentAqua | -68 |
LuminanceAdjustmentBlue | +33 |
LuminanceAdjustmentGreen | -59 |
LuminanceAdjustmentMagenta | +37 |
LuminanceAdjustmentOrange | -83 |
LuminanceAdjustmentPurple | +15 |
LuminanceAdjustmentRed | +1 |
LuminanceAdjustmentYellow | +17 |
LuminanceSmoothing | 0 |
Make | Canon |
MaxApertureValue | 3.5 |
Megapixels | 3.3 |
MeteringMode | Partial |
Model | Canon EOS 400D DIGITAL |
ModifyDate (1) | 2009:05:23 00:42:24+02:00 |
ModifyDate | 2009:05:23 00:42:24 |
Orientation | Horizontal (normal) |
OwnerName | unknown |
ParametricDarks | 0 |
ParametricHighlights | 0 |
ParametricHighlightSplit | 75 |
ParametricLights | 0 |
ParametricMidtoneSplit | 50 |
ParametricShadows | 0 |
ParametricShadowSplit | 25 |
ProfileDescription | Adobe RGB (1998) |
Rating | 0 |
RawFileName | IMG_6393.CR2 |
RedHue | 0 |
RedSaturation | 0 |
Saturation | +36 |
SaturationAdjustmentAqua | -44 |
SaturationAdjustmentBlue | -18 |
SaturationAdjustmentGreen | -37 |
SaturationAdjustmentMagenta | +25 |
SaturationAdjustmentOrange | +56 |
SaturationAdjustmentPurple | +27 |
SaturationAdjustmentRed | +81 |
SaturationAdjustmentYellow | +22 |
ScaleFactor35efl | 1.6 |
SceneCaptureType | Standard |
SerialNumber | 830453178 |
Shadows | 16 |
ShadowTint | 0 |
Sharpness | 25 |
ShutterSpeed | 1/8 |
ShutterSpeedValue | 1/8 |
SidecarForExtension | CR2 |
Software | Adobe Photoshop CS3 Windows |
SplitToningBalance | -1 |
SplitToningHighlightHue | 206 |
SplitToningHighlightSaturation | 5 |
SplitToningShadowHue | 221 |
SplitToningShadowSaturation | 23 |
TimeZoneOffset | 2 2 |
Tint | +18 |
ToneCurve | 0, 0, 32, 22, 64, 56, 128, 128, 192, 196, 255, 255 |
ToneCurveName | Medium Contrast |
URL_List | |
Version | 4.0 |
Vibrance | +6 |
VignetteAmount | +53 |
VignetteMidpoint | 50 |
WhiteBalance (2) | Custom |
WhiteBalance | Manual |