Felt | Verdi |
AlreadyApplied | True |
Aperture | 9.0 |
ApertureValue | 9.0 |
BitsPerSample | 8 |
BlueHue | 0 |
BlueSaturation | 0 |
Brightness | +50 |
CameraProfile | ACR 4.4 |
Caption-Abstract | OLYMPUS DIGITAL CAMERA |
CFAPattern | [Red,Green][Green,Blue] |
ChromaticAberrationB | 0 |
ChromaticAberrationR | 0 |
Clarity | +100 |
ColorComponents | 3 |
ColorMode | RGB |
ColorNoiseReduction | 25 |
ColorSpace | sRGB |
ColorTemperature | 5300 |
Contrast (2) | +25 |
Contrast | Normal |
ConvertToGrayscale | False |
Copyright | Thomas Dragsnes |
CopyrightFlag | True |
CopyrightNotice | Thomas Dragsnes |
CreateDate (1) | 2009:06:08 19:37:42+02:00 |
CreateDate | 2009:06:06 15:36:51 |
CreatorTool | Adobe Photoshop CS3 Windows |
CustomRendered | Normal |
DateTimeDigitized | 2009:06:06 15:36:51+02:00 |
DateTimeOriginal (1) | 2009:06:06 15:36:51+02:00 |
DateTimeOriginal | 2009:06:06 15:36:51 |
Defringe | 0 |
Description | OLYMPUS DIGITAL CAMERA |
DigitalZoomRatio | 1 |
ExifImageHeight | 751 |
ExifImageWidth | 1000 |
Exposure | +0.50 |
ExposureCompensation | 0 |
ExposureMode | Manual |
ExposureProgram | Manual |
ExposureTime | 1/100 |
FillLight | 0 |
Flash | On, Did not fire |
FlashCompensation | 0 |
FlashFired | False |
FlashFunction | False |
FlashMode | On |
FlashRedEyeMode | False |
FlashReturn | No return detection |
FNumber | 9.0 |
FocalLength | 123.0 mm |
FocalLength35efl | 123.0 mm |
Format | image/jpeg |
GainControl | Low gain up |
GreenHue | 0 |
GreenSaturation | 0 |
HasCrop | False |
HasSettings | True |
HighlightRecovery | 0 |
HueAdjustmentAqua | 0 |
HueAdjustmentBlue | 0 |
HueAdjustmentGreen | 0 |
HueAdjustmentMagenta | 0 |
HueAdjustmentOrange | 0 |
HueAdjustmentPurple | 0 |
HueAdjustmentRed | 0 |
HueAdjustmentYellow | 0 |
ICCProfileName | sRGB IEC61966-2.1 |
ImageDescription | OLYMPUS DIGITAL CAMERA |
ImageHeight | 751 |
ImageSize | 1000x751 |
ImageWidth | 1000 |
ISO | 160 |
Lens | 40.0-150.0 mm f/3.5-4.5 |
LensInfo | 40-150mm f/3.5-4.5 |
LensSerialNumber | 000000000 |
LightSource | Unknown |
LightValue | 12.3 |
LuminanceAdjustmentAqua | 0 |
LuminanceAdjustmentBlue | 0 |
LuminanceAdjustmentGreen | 0 |
LuminanceAdjustmentMagenta | 0 |
LuminanceAdjustmentOrange | 0 |
LuminanceAdjustmentPurple | 0 |
LuminanceAdjustmentRed | 0 |
LuminanceAdjustmentYellow | 0 |
LuminanceSmoothing | 0 |
Make | OLYMPUS IMAGING CORP. |
Marked | True |
MaxApertureValue | 3.5 |
Megapixels | 0.751 |
MeteringMode | Spot |
Model | E-500 |
ModifyDate (1) | 2009:06:08 19:37:42+02:00 |
ModifyDate | 2009:06:08 19:37:42 |
Orientation | Horizontal (normal) |
ParametricDarks | -3 |
ParametricHighlights | -16 |
ParametricHighlightSplit | 75 |
ParametricLights | +13 |
ParametricMidtoneSplit | 50 |
ParametricShadows | -22 |
ParametricShadowSplit | 25 |
PostCropVignetteAmount | 0 |
ProfileDescription | sRGB IEC61966-2.1 |
Rating | 0 |
RawFileName | P6063736.ORF |
RedHue | 0 |
RedSaturation | 0 |
Rights | Thomas Dragsnes |
Saturation (2) | 0 |
Saturation | High |
SaturationAdjustmentAqua | 0 |
SaturationAdjustmentBlue | 0 |
SaturationAdjustmentGreen | 0 |
SaturationAdjustmentMagenta | 0 |
SaturationAdjustmentOrange | 0 |
SaturationAdjustmentPurple | 0 |
SaturationAdjustmentRed | 0 |
SaturationAdjustmentYellow | 0 |
SceneCaptureType | Standard |
SerialNumber | A79519139 |
Shadows | 11 |
ShadowTint | 0 |
SharpenDetail | 25 |
SharpenEdgeMasking | 0 |
SharpenRadius | +1.0 |
Sharpness (2) | 25 |
Sharpness | Normal |
ShutterSpeed | 1/100 |
ShutterSpeedValue | 1/100 |
SidecarForExtension | ORF |
Software | Adobe Photoshop CS3 Windows |
SplitToningBalance | 0 |
SplitToningHighlightHue | 0 |
SplitToningHighlightSaturation | 0 |
SplitToningShadowHue | 0 |
SplitToningShadowSaturation | 0 |
Tint | +4 |
ToneCurve | 0, 0, 32, 22, 64, 56, 128, 128, 192, 196, 255, 255 |
ToneCurveName | Medium Contrast |
URL_List | |
UsageTerms | |
Version | 4.6 |
Vibrance | +8 |
VignetteAmount | -51 |
VignetteMidpoint | 50 |
WhiteBalance (2) | As Shot |
WhiteBalance | Auto |