Felt | Verdi |
AlreadyApplied | True |
Aperture | 3.5 |
ApertureValue | 3.5 |
BitsPerSample | 8 |
BlueHue | 0 |
BlueSaturation | 0 |
Brightness | +34 |
CameraProfile | Adobe Standard |
CFAPattern | [Red,Green][Green,Blue] |
ChromaticAberrationB | 0 |
ChromaticAberrationR | 0 |
CircleOfConfusion | 0.020 mm |
Clarity | 0 |
ColorComponents | 3 |
ColorNoiseReduction | 55 |
ColorTemperature | 7450 |
Contrast (2) | +50 |
Contrast | Normal |
ConvertToGrayscale | False |
CreateDate (1) | 2009:10:11 18:51:27.42+02:00 |
CreateDate | 2009:10:11 18:51:27 |
CreatorTool | Nikon Transfer 1.5 M |
CustomRendered | Normal |
DateTimeDigitized | 2009:10:11 18:51:27.42+02:00 |
DateTimeOriginal (1) | 2009:10:11 18:51:27.42+02:00 |
DateTimeOriginal | 2009:10:11 18:51:27 |
Defringe | 0 |
DigitalZoomRatio | 1 |
ExifImageHeight | 2848 |
ExifImageWidth | 4288 |
Exposure | -0.35 |
ExposureCompensation | 0 |
ExposureMode | Manual |
ExposureProgram | Manual |
ExposureTime | 0.4 |
FillLight | 77 |
Flash | No Flash |
FlashFired | False |
FlashFunction | False |
FlashMode | Unknown |
FlashRedEyeMode | False |
FlashReturn | No return detection |
FNumber | 3.5 |
FocalLength | 18.0 mm |
FocalLength35efl | 18.0 mm (35 mm equivalent: 27.0 mm) |
FocalLengthIn35mmFormat | 27 mm |
FOV | 67.4 deg |
GainControl | None |
GradientBasedCorrActive | true |
GradientBasedCorrAmount | 1.000000 |
GradientBasedCorrBrightness (1) | 0.125000 |
GradientBasedCorrBrightness | -1.000000 |
GradientBasedCorrClarity (1) | -0.010000 |
GradientBasedCorrClarity | -0.300000 |
GradientBasedCorrContrast (1) | 0.280000 |
GradientBasedCorrContrast | -1.000000 |
GradientBasedCorrExposure (1) | -0.550000 |
GradientBasedCorrExposure | -1.000000 |
GradientBasedCorrHue (1) | 245.000000 |
GradientBasedCorrHue | 226.000000 |
GradientBasedCorrMaskFullX (1) | 0.471642 |
GradientBasedCorrMaskFullX | 0.453731 |
GradientBasedCorrMaskFullY (1) | 0.000000 |
GradientBasedCorrMaskFullY | 1.001497 |
GradientBasedCorrMaskValue | 1.000000 |
GradientBasedCorrMaskWhat | Mask/Gradient |
GradientBasedCorrMaskZeroX (1) | 0.473632 |
GradientBasedCorrMaskZeroX | 0.452736 |
GradientBasedCorrMaskZeroY (1) | 0.211078 |
GradientBasedCorrMaskZeroY | 0.760479 |
GradientBasedCorrSaturation (1) | 0.570000 |
GradientBasedCorrSaturation (2) | 0.970000 |
GradientBasedCorrSaturation (3) | 1.000000 |
GradientBasedCorrSaturation | 0.990000 |
GradientBasedCorrSharpness | 0.500000 |
GradientBasedCorrWhat | Correction |
GreenHue | 0 |
GreenSaturation | 0 |
HasCrop | False |
HasSettings | True |
HighlightRecovery | 100 |
HueAdjustmentAqua | +73 |
HueAdjustmentBlue | +14 |
HueAdjustmentGreen | +3 |
HueAdjustmentMagenta | 0 |
HueAdjustmentOrange | -30 |
HueAdjustmentPurple | -3 |
HueAdjustmentRed | +43 |
HueAdjustmentYellow | +1 |
HyperfocalDistance | 4.62 m |
ImageHeight | 2848 |
ImageNumber | 160 |
ImageSize | 4288x2848 |
ImageWidth | 4288 |
ISO | 200 |
Lens | 18.0-70.0 mm f/3.5-4.5 |
LensInfo | 18-70mm f/3.5-4.5 |
LightSource | Unknown |
LightValue | 3.9 |
LuminanceAdjustmentAqua | 0 |
LuminanceAdjustmentBlue | +30 |
LuminanceAdjustmentGreen | 0 |
LuminanceAdjustmentMagenta | 0 |
LuminanceAdjustmentOrange | 0 |
LuminanceAdjustmentPurple | 0 |
LuminanceAdjustmentRed | 0 |
LuminanceAdjustmentYellow | 0 |
LuminanceSmoothing | 55 |
Make | NIKON CORPORATION |
MaxApertureValue | 3.5 |
Megapixels | 12.2 |
MeteringMode | Multi-segment |
Model | NIKON D300S |
ModifyDate (1) | 2009:10:15 23:44:55+02:00 |
ModifyDate | 2009:10:15 23:44:55 |
PaintCorrectionActive | true |
PaintCorrectionAmount | 1.000000 |
PaintCorrectionBrightness | -1.000000 |
PaintCorrectionClarity | -0.300000 |
PaintCorrectionContrast | -1.000000 |
PaintCorrectionExposure | -0.362500 |
PaintCorrectionHue | 226.000000 |
PaintCorrectionMaskCenterWeight (1) | 0.000000 |
PaintCorrectionMaskCenterWeight (2) | 0.325049 |
PaintCorrectionMaskCenterWeight (6) | 0.162140 |
PaintCorrectionMaskCenterWeight (8) | 1.000000 |
PaintCorrectionMaskCenterWeight | 0.038361 |
PaintCorrectionMaskFlow | 0.888889 |
PaintCorrectionMaskRadius (1) | 0.074869 |
PaintCorrectionMaskRadius (2) | 0.036705 |
PaintCorrectionMaskRadius (5) | 0.049115 |
PaintCorrectionMaskRadius (8) | 0.050339 |
PaintCorrectionMaskRadius | 0.116168 |
PaintCorrectionMaskValue (3) | 1.000000 |
PaintCorrectionMaskValue | 0.000000 |
PaintCorrectionMaskWhat | Mask/Paint |
PaintCorrectionSaturation (1) | 0.000000 |
PaintCorrectionSaturation | 0.990000 |
PaintCorrectionSharpness | 0.500000 |
PaintCorrectionWhat | Correction |
ParametricDarks | -11 |
ParametricHighlights | +78 |
ParametricHighlightSplit | 75 |
ParametricLights | +81 |
ParametricMidtoneSplit | 50 |
ParametricShadows | +6 |
ParametricShadowSplit | 25 |
PostCropVignetteAmount | 0 |
ProfileDescription | Adobe RGB (1998) |
RatingPercent | 0 |
RawFileName | Ekebergrestauranten_artsy.DNG |
RedHue | +47 |
RedSaturation | 0 |
Saturation (2) | 0 |
Saturation | Normal |
SaturationAdjustmentAqua | -23 |
SaturationAdjustmentBlue | +36 |
SaturationAdjustmentGreen | 0 |
SaturationAdjustmentMagenta | 0 |
SaturationAdjustmentOrange | 0 |
SaturationAdjustmentPurple | 0 |
SaturationAdjustmentRed | -5 |
SaturationAdjustmentYellow | 0 |
ScaleFactor35efl | 1.5 |
SceneCaptureType | Standard |
SceneType | Directly photographed |
SensingMethod | One-chip color area |
SerialNumber | 6002420 |
Shadows | 8 |
ShadowTint | 0 |
SharpenDetail | 0 |
SharpenEdgeMasking | 0 |
SharpenRadius | +0.5 |
Sharpness (2) | 0 |
Sharpness | Normal |
ShutterSpeed | 0.4 |
ShutterSpeedValue | 0.4 |
Software | Nikon Transfer 1.5 M |
SplitToningBalance | 0 |
SplitToningHighlightHue | 0 |
SplitToningHighlightSaturation | 34 |
SplitToningShadowHue | 0 |
SplitToningShadowSaturation | 0 |
SubjectDistanceRange | Unknown |
Tint | -25 |
ToneCurve | 0, 0, 46, 16, 82, 67, 128, 128, 169, 171, 190, 211, 255, 255 |
ToneCurveName | Custom |
Version | 5.5 |
Vibrance | -2 |
VignetteAmount | 0 |
WhiteBalance (2) | Custom |
WhiteBalance | Auto |