Felt | Verdi |
AlreadyApplied | True |
Aperture | 11.0 |
ApertureValue | 11.0 |
BitsPerSample | 8 |
BlueHue | 0 |
BlueSaturation | 0 |
Brightness | +25 |
CameraProfile | Adobe Standard |
CFAPattern | [Green,Blue][Red,Green] |
ChromaticAberrationB | -63 |
ChromaticAberrationR | -59 |
CircleOfConfusion | 0.020 mm |
Clarity | +82 |
ColorComponents | 3 |
ColorMode | RGB |
ColorNoiseReduction | 100 |
ColorSpace | Uncalibrated |
ColorTemperature | 3250 |
Contrast (2) | +34 |
Contrast | Normal |
ConvertToGrayscale | False |
CreateDate (1) | 2009:08:09 00:03:11.00+02:00 |
CreateDate | 2009:08:09 00:03:11 |
CreatorTool | Nikon Transfer 1.4 W |
CustomRendered | Normal |
DateTimeDigitized | 2009:08:09 00:03:11.00+02:00 |
DateTimeOriginal (1) | 2009:08:09 00:03:11.00+02:00 |
DateTimeOriginal | 2009:08:09 00:03:11 |
Defringe | 2 |
DigitalZoomRatio | 1 |
ExifImageHeight | 677 |
ExifImageWidth | 1020 |
Exposure | -0.15 |
ExposureCompensation | 0 |
ExposureMode | Manual |
ExposureProgram | Manual |
ExposureTime | 10 |
FillLight | 63 |
Flash | No Flash |
FlashFired | False |
FlashFunction | False |
FlashMode | Unknown |
FlashRedEyeMode | False |
FlashReturn | No return detection |
FNumber | 11.0 |
FocalLength | 18.0 mm |
FocalLength35efl | 18.0 mm (35 mm equivalent: 27.0 mm) |
FocalLengthIn35mmFormat | 27 mm |
Format | image/jpeg |
FOV | 67.4 deg |
GainControl | None |
GreenHue | 0 |
GreenSaturation | 0 |
HasCrop | False |
HasSettings | True |
HighlightRecovery | 18 |
HueAdjustmentAqua | 0 |
HueAdjustmentBlue | +50 |
HueAdjustmentGreen | -6 |
HueAdjustmentMagenta | +6 |
HueAdjustmentOrange | 0 |
HueAdjustmentPurple | -68 |
HueAdjustmentRed | 0 |
HueAdjustmentYellow | +20 |
HyperfocalDistance | 1.47 m |
ICCProfileName | Adobe RGB (1998) |
ImageHeight | 677 |
ImageNumber | 1012 |
ImageSize | 1020x677 |
ImageWidth | 1020 |
ISO | 200 |
Lens | 18.0-55.0 mm f/3.5-5.6 |
LensInfo | 18-55mm f/3.5-5.6 |
LightSource | Unknown |
LightValue | 2.6 |
LuminanceAdjustmentAqua | 0 |
LuminanceAdjustmentBlue | 0 |
LuminanceAdjustmentGreen | +30 |
LuminanceAdjustmentMagenta | 0 |
LuminanceAdjustmentOrange | +43 |
LuminanceAdjustmentPurple | 0 |
LuminanceAdjustmentRed | -29 |
LuminanceAdjustmentYellow | +7 |
LuminanceSmoothing | 100 |
Make | NIKON CORPORATION |
MaxApertureValue | 3.5 |
Megapixels | 0.691 |
MeteringMode | Multi-segment |
Model | NIKON D5000 |
ModifyDate (1) | 2009:10:27 20:52:10+01:00 |
ModifyDate | 2009:10:27 20:52:10 |
Orientation | Horizontal (normal) |
ParametricDarks | +1 |
ParametricHighlights | -18 |
ParametricHighlightSplit | 75 |
ParametricLights | +13 |
ParametricMidtoneSplit | 50 |
ParametricShadows | +3 |
ParametricShadowSplit | 25 |
PostCropVignetteAmount | -100 |
PostCropVignetteFeather | 3 |
PostCropVignetteMidpoint | 95 |
PostCropVignetteRoundness | -100 |
ProfileDescription | Adobe RGB (1998) |
Rating | 0 |
RatingPercent | 0 |
RawFileName | _DSC0231.NEF |
RedHue | 0 |
RedSaturation | 0 |
Saturation (2) | +17 |
Saturation | Normal |
SaturationAdjustmentAqua | +13 |
SaturationAdjustmentBlue | +4 |
SaturationAdjustmentGreen | +68 |
SaturationAdjustmentMagenta | +2 |
SaturationAdjustmentOrange | +50 |
SaturationAdjustmentPurple | 0 |
SaturationAdjustmentRed | +10 |
SaturationAdjustmentYellow | +8 |
ScaleFactor35efl | 1.5 |
SceneCaptureType | Landscape |
SceneType | Directly photographed |
SensingMethod | One-chip color area |
SerialNumber | 6026750 |
Shadows | 4 |
ShadowTint | 0 |
SharpenDetail | 100 |
SharpenEdgeMasking | 100 |
SharpenRadius | +3.0 |
Sharpness (2) | 150 |
Sharpness | Normal |
ShutterSpeed | 10 |
ShutterSpeedValue | 10 |
SidecarForExtension | NEF |
Software | Adobe Photoshop CS4 Windows |
SplitToningBalance | -77 |
SplitToningHighlightHue | 138 |
SplitToningHighlightSaturation | 0 |
SplitToningShadowHue | 41 |
SplitToningShadowSaturation | 6 |
SubjectDistanceRange | Unknown |
Tint | 0 |
ToneCurve | 0, 0, 32, 22, 64, 56, 128, 128, 192, 196, 255, 255 |
ToneCurveName | Medium Contrast |
URL_List | |
Version | 5.4 |
Vibrance | +58 |
VignetteAmount | +3 |
VignetteMidpoint | 47 |
WhiteBalance (2) | Custom |
WhiteBalance | Auto |