Felt | Verdi |
AlreadyApplied | True |
Aperture | 5.6 |
ApertureValue | 5.6 |
BitsPerSample | 8 |
BlueHue | 0 |
BlueSaturation | 0 |
Brightness | +50 |
CameraProfile | Camera Standard v2 |
CFAPattern | [Red,Green][Green,Blue] |
ChromaticAberrationB | 0 |
ChromaticAberrationR | 0 |
CircleOfConfusion | 0.030 mm |
Clarity | 0 |
ColorComponents | 3 |
ColorNoiseReduction | 25 |
ColorTemperature | 4950 |
Contrast (2) | +25 |
Contrast | Normal |
ConvertToGrayscale | False |
CreateDate (1) | 2010:07:17 21:43:46.67+02:00 |
CreateDate | 2010:07:17 21:43:46 |
CreatorTool | Adobe Photoshop Lightroom |
CropAngle | -1.42583 |
CropBottom | 0.918424 |
CropHeight | 2549 |
CropLeft | 0.058143 |
CropRight | 0.971197 |
CropTop | 0.05218 |
CropUnit | pixels |
CropWidth | 3824 |
CustomRendered | Normal |
DateTimeDigitized | 2010:07:17 21:43:46.67+02:00 |
DateTimeOriginal (1) | 2010:07:17 21:43:46.67+02:00 |
DateTimeOriginal | 2010:07:17 21:43:46 |
Defringe | 0 |
DigitalZoomRatio | 1 |
DOF | inf (2.69 m - inf) |
ExifImageHeight | 2549 |
ExifImageWidth | 3824 |
Exposure | 0.00 |
ExposureCompensation | 0 |
ExposureMode | Manual |
ExposureProgram | Manual |
ExposureTime | 1/200 |
FillLight | 7 |
Flash | No Flash |
FlashFired | False |
FlashFunction | False |
FlashMode | Unknown |
FlashRedEyeMode | False |
FlashReturn | No return detection |
FNumber | 5.6 |
FocalLength | 28.0 mm |
FocalLength35efl | 28.0 mm (35 mm equivalent: 28.0 mm) |
FocalLengthIn35mmFormat | 28 mm |
FOV | 65.5 deg |
GainControl | High gain up |
GreenHue | 0 |
GreenSaturation | 0 |
HasCrop | True |
HasSettings | True |
HighlightRecovery | 0 |
HueAdjustmentAqua | 0 |
HueAdjustmentBlue | 0 |
HueAdjustmentGreen | 0 |
HueAdjustmentMagenta | 0 |
HueAdjustmentOrange | 0 |
HueAdjustmentPurple | 0 |
HueAdjustmentRed | 0 |
HueAdjustmentYellow | 0 |
HyperfocalDistance | 4.66 m |
ImageHeight | 2549 |
ImageNumber | 3536 |
ImageSize | 3824x2549 |
ImageWidth | 3824 |
ISO | 1600 |
Lens | 28.0-75.0 mm f/2.8 |
LensID (1) | 51 |
LensID | Tamron SP AF 28-75mm f/2.8 XR Di LD Aspherical (IF) Macro (A09) |
LensInfo | 28-75mm f/2.8 |
LightSource | Cloudy |
LightValue | 8.6 |
LuminanceAdjustmentAqua | 0 |
LuminanceAdjustmentBlue | 0 |
LuminanceAdjustmentGreen | 0 |
LuminanceAdjustmentMagenta | 0 |
LuminanceAdjustmentOrange | 0 |
LuminanceAdjustmentPurple | 0 |
LuminanceAdjustmentRed | 0 |
LuminanceAdjustmentYellow | 0 |
LuminanceSmoothing | 0 |
Make | NIKON CORPORATION |
MaxApertureValue | 2.8 |
Megapixels | 9.7 |
MeteringMode | Center-weighted average |
Model | NIKON D700 |
ModifyDate (1) | 2010:07:18 16:06:16+02:00 |
ModifyDate | 2010:07:18 16:06:16 |
ParametricDarks | 0 |
ParametricHighlights | 0 |
ParametricHighlightSplit | 75 |
ParametricLights | 0 |
ParametricMidtoneSplit | 50 |
ParametricShadows | 0 |
ParametricShadowSplit | 25 |
PostCropVignetteAmount | 0 |
ProfileDescription | sRGB IEC61966-2.1 |
RedHue | 0 |
RedSaturation | 0 |
Saturation (2) | +3 |
Saturation | Normal |
SaturationAdjustmentAqua | 0 |
SaturationAdjustmentBlue | 0 |
SaturationAdjustmentGreen | 0 |
SaturationAdjustmentMagenta | 0 |
SaturationAdjustmentOrange | 0 |
SaturationAdjustmentPurple | 0 |
SaturationAdjustmentRed | 0 |
SaturationAdjustmentYellow | 0 |
ScaleFactor35efl | 1.0 |
SceneCaptureType | Standard |
SceneType | Directly photographed |
SensingMethod | One-chip color area |
SerialNumber | 2256943 |
Shadows | 5 |
ShadowTint | 0 |
SharpenDetail | 25 |
SharpenEdgeMasking | 0 |
SharpenRadius | +1.0 |
Sharpness (2) | 25 |
Sharpness | Normal |
ShutterSpeed | 1/200 |
ShutterSpeedValue | 1/200 |
Software | Ver.1.02 |
SplitToningBalance | 0 |
SplitToningHighlightHue | 0 |
SplitToningHighlightSaturation | 0 |
SplitToningShadowHue | 0 |
SplitToningShadowSaturation | 0 |
SubjectDistance | 6.31 m |
SubjectDistanceRange | Unknown |
Tint | -19 |
ToneCurve | 0, 0, 32, 22, 64, 56, 128, 128, 192, 196, 255, 255 |
ToneCurveName | Medium Contrast |
UserComment | (C) SHANE WEST |
Version | 5.7 |
Vibrance | +4 |
VignetteAmount | 0 |
WhiteBalance (2) | Custom |
WhiteBalance | Manual |