Felt | Verdi |
AlreadyApplied | True |
Aperture | 6.7 |
ApertureValue | 6.7 |
BitsPerSample | 8 |
BlueHue | 0 |
BlueSaturation | 0 |
Brightness | +38 |
CameraProfile | ACR 3.6 |
CFAPattern | [Green,Blue][Red,Green] |
ChromaticAberrationB | 0 |
ChromaticAberrationR | 0 |
CircleOfConfusion | 0.020 mm |
Clarity | 53 |
ColorComponents | 3 |
ColorMode | RGB |
ColorNoiseReduction | 25 |
ColorSpace | sRGB |
ColorTemperature | 4800 |
Contrast (2) | +25 |
Contrast | Normal |
ConvertToGrayscale | False |
CopyrightFlag | False |
Country | Iceland |
Country-PrimaryLocationName | Iceland |
CountryCode | ISL |
CreateDate (1) | 2010:09:18 23:45:04+02:00 |
CreateDate | 2010:09:11 15:17:35 |
CreatorTool | Adobe Photoshop Elements 6.0 Windows |
CustomRendered | Normal |
DateCreated | 2010:09:11 |
DateTimeDigitized | 2010:09:11 15:17:35+00:00 |
DateTimeOriginal (1) | 2010:09:11 15:17:35+00:00 |
DateTimeOriginal | 2010:09:11 15:17:35 |
Defringe | 0 |
DigitalZoomRatio | 1 |
ExifImageHeight | 2592 |
ExifImageWidth | 3872 |
Exposure | 0.00 |
ExposureCompensation | 0 |
ExposureMode | Auto |
ExposureProgram | Program AE |
ExposureTime | 1/1500 |
FillLight | 20 |
Flash | No Flash |
FlashFired | False |
FlashFunction | False |
FlashMode | Unknown |
FlashRedEyeMode | False |
FlashReturn | No return detection |
FNumber | 6.7 |
FocalLength | 18.0 mm |
FocalLength35efl | 18.0 mm (35 mm equivalent: 27.0 mm) |
FocalLengthIn35mmFormat | 27 mm |
Format | image/jpeg |
FOV | 67.4 deg |
GainControl | None |
GPSDateStamp | 2010:09:11 |
GPSDateTime | 2010:09:11 15:17:35Z |
GPSLatitude (2) | 64 deg 18' 35.24" |
GPSLatitude | 64 deg 18' 35.24" N |
GPSLatitudeRef | North |
GPSLongitude (2) | 20 deg 18' 7.99" |
GPSLongitude | 20 deg 18' 7.99" W |
GPSLongitudeRef | West |
GPSMapDatum | WGS-84 |
GPSPosition | 64 deg 18' 35.24" N, 20 deg 18' 7.99" W |
GPSSatellites | 0 |
GPSSpeed | 0 |
GPSSpeedRef | km/h |
GPSTimeStamp | 15:17:35 |
GPSVersionID | 2.2.0.0 |
GreenHue | 0 |
GreenSaturation | 0 |
HasCrop | False |
HasSettings | True |
HighlightRecovery | 100 |
HueAdjustmentAqua | 0 |
HueAdjustmentBlue | 0 |
HueAdjustmentGreen | 0 |
HueAdjustmentMagenta | 0 |
HueAdjustmentOrange | 0 |
HueAdjustmentPurple | 0 |
HueAdjustmentRed | 0 |
HueAdjustmentYellow | 0 |
HyperfocalDistance | 2.41 m |
ICCProfileName | sRGB IEC61966-2.1 |
ImageHeight | 2592 |
ImageNumber | 6047 |
ImageSize | 3872x2592 |
ImageWidth | 3872 |
ISO | 125 |
Keywords | Hendelser/Fot turer/Fotosafarie til Island, Natur/Vann/Geysir |
LastKeywordIPTC | Hendelser/Fot turer/Fotosafarie til Island, Natur/Vann/Geysir |
LastKeywordXMP | Hendelser/Fot turer/Fotosafarie til Island, Natur/Vann/Geysir |
Lens | 18.0-200.0 mm f/3.5-6.3 |
LensInfo | 18-200mm f/3.5-6.3 |
LightSource | Unknown |
LightValue | 15.7 |
Location | Geysir |
LuminanceAdjustmentAqua | 0 |
LuminanceAdjustmentBlue | 0 |
LuminanceAdjustmentGreen | 0 |
LuminanceAdjustmentMagenta | 0 |
LuminanceAdjustmentOrange | 0 |
LuminanceAdjustmentPurple | 0 |
LuminanceAdjustmentRed | 0 |
LuminanceAdjustmentYellow | 0 |
LuminanceSmoothing | 0 |
Make | NIKON CORPORATION |
MaxApertureValue | 3.5 |
Megapixels | 10.0 |
MeteringMode | Center-weighted average |
Model | NIKON D80 |
ModifyDate (1) | 2010:09:18 23:45:04+02:00 |
ModifyDate | 2010:09:18 23:45:04 |
Orientation | Horizontal (normal) |
ParametricDarks | 0 |
ParametricHighlights | 0 |
ParametricHighlightSplit | 75 |
ParametricLights | 0 |
ParametricMidtoneSplit | 50 |
ParametricShadows | 0 |
ParametricShadowSplit | 25 |
ProfileDescription | sRGB IEC61966-2.1 |
Province-State | SuĂ°urland |
Rating | 2 |
RatingPercent | 25 |
RawFileName | DSC_5951.NEF |
RedHue | 0 |
RedSaturation | 0 |
ReferenceBlackWhite | 0, 255, 0, 255, 0, 255 |
Saturation (2) | +63 |
Saturation | Normal |
SaturationAdjustmentAqua | 0 |
SaturationAdjustmentBlue | 0 |
SaturationAdjustmentGreen | 0 |
SaturationAdjustmentMagenta | 0 |
SaturationAdjustmentOrange | 0 |
SaturationAdjustmentPurple | 0 |
SaturationAdjustmentRed | 0 |
SaturationAdjustmentYellow | 0 |
ScaleFactor35efl | 1.5 |
SceneCaptureType | Standard |
SceneType | Directly photographed |
SensingMethod | One-chip color area |
Shadows | 9 |
ShadowTint | 0 |
SharpenDetail | 25 |
SharpenEdgeMasking | 0 |
SharpenRadius | +1.0 |
Sharpness (2) | 25 |
Sharpness | Normal |
ShutterSpeed | 1/1500 |
ShutterSpeedValue | 1/1500 |
SidecarForExtension | NEF |
Software | Adobe Photoshop Elements 6.0 Windows |
SplitToningBalance | 0 |
SplitToningHighlightHue | 0 |
SplitToningHighlightSaturation | 0 |
SplitToningShadowHue | 0 |
SplitToningShadowSaturation | 0 |
State | SuĂ°urland |
Subject | Hendelser/Fot turer/Fotosafarie til Island, Natur/Vann/Geysir |
SubjectDistanceRange | Unknown |
Tint | +1 |
ToneCurve | 0, 0, 32, 22, 64, 56, 128, 128, 192, 196, 255, 255 |
ToneCurveName | Medium Contrast |
URL_List | |
UserComment | |
Version | 4.2 |
Vibrance | +32 |
VignetteAmount | 0 |
WhiteBalance (2) | As Shot |
WhiteBalance | Auto |
XPKeywords | Hendelser/Fot turer/Fotosafarie til Island;Natur/Vann/Geysir |