Felt | Verdi |
AlreadyApplied | True |
Aperture | 7.1 |
ApertureValue | 7.1 |
ApproximateFocusDistance | 4.22 |
BitsPerSample | 8 |
BlackClip | 1.129400 |
BlueHue | 0 |
BlueSaturation | 0 |
Brightness | +33 |
CameraProfile | Embedded |
ChromaticAberrationB | 0 |
ChromaticAberrationR | 0 |
Clarity | +59 |
ColorComponents | 3 |
ColorNoiseReduction | 0 |
ColorSaturation | 56.0 |
ColorTemperature | 0.0 |
Contrast | +29 |
ConvertToGrayscale | False |
CreateDate (1) | 2011:10:08 14:39:53.00 |
CreateDate | 2011:10:08 14:39:53 |
CreatorTool | Adobe Photoshop Lightroom 3.5 (Windows) |
CropAngle | 0 |
CropBottom | 0.948052 |
CropConstrainToWarp | 0 |
CropHeight | 4065 |
CropLeft | 0.051948 |
CropRight | 1 |
CropTop | 0 |
CropUnit | pixels |
CropWidth | 2700 |
DateCreated (1) | 2011:10:08 |
DateCreated | 2011:10:08 14:39:53.00 |
DateTimeOriginal | 2011:10:08 14:39:53 |
Defringe | 0 |
ExifImageHeight | 2048 |
ExifImageWidth | 1360 |
Exposure | -1.06 |
ExposureTime | 1/500 |
FillLight | 66 |
FNumber | 7.1 |
FocalLength | 18.0 mm |
FocalLength35efl | 18.0 mm |
Gamma | 1.10 |
GrainAmount | 0 |
GreenHue | 0 |
GreenSaturation | 0 |
HasCrop | True |
HasSettings | True |
HighlightRecovery | 0 |
HighlightsSmoothing | 80.0 |
HueAdjustmentAqua | 0 |
HueAdjustmentBlue | 0 |
HueAdjustmentGreen | 0 |
HueAdjustmentMagenta | 0 |
HueAdjustmentOrange | 0 |
HueAdjustmentPurple | 0 |
HueAdjustmentRed | 0 |
HueAdjustmentYellow | 0 |
ImageHeight | 2048 |
ImageNumber | 7950 |
ImageSize | 1360x2048 |
ImageWidth | 1360 |
IncrementalTemperature | 0 |
IncrementalTint | 0 |
ISO | 160 |
IsPano360 | No |
Lens | 18.0-270.0 mm f/3.5-6.3 |
LensID | 245 |
LensInfo | 18-270mm f/3.5-6.3 |
LensManualDistortionAmount | 0 |
LensModel | 18.0-270.0 mm f/3.5-6.3 |
LensProfileEnable | 0 |
LensProfileSetup | LensDefaults |
LightValue | 13.9 |
LuminanceAdjustmentAqua | 0 |
LuminanceAdjustmentBlue | 0 |
LuminanceAdjustmentGreen | 0 |
LuminanceAdjustmentMagenta | 0 |
LuminanceAdjustmentOrange | 0 |
LuminanceAdjustmentPurple | 0 |
LuminanceAdjustmentRed | 0 |
LuminanceAdjustmentYellow | 0 |
LuminanceNoiseReductionContrast | 0 |
LuminanceNoiseReductionDetail | 50 |
LuminanceSmoothing | 21 |
Luminosity | 6.9 |
Megapixels | 2.8 |
Method | Details Enhancer |
Microcontrast | -0.9 |
Microsmoothing | 2.7 |
Model | NIKON D90 |
ModifyDate (1) | 2011:10:08 18:04:48+02:00 |
ModifyDate | 2011:10:08 18:04:48 |
Orientation | Horizontal (normal) |
ParametricDarks | 0 |
ParametricHighlights | 0 |
ParametricHighlightSplit | 75 |
ParametricLights | 0 |
ParametricMidtoneSplit | 50 |
ParametricShadows | 0 |
ParametricShadowSplit | 25 |
PerspectiveHorizontal | 0 |
PerspectiveRotate | 0.0 |
PerspectiveScale | 100 |
PerspectiveVertical | 0 |
PostCropVignetteAmount | 0 |
ProcessVersion | 5.7 |
ProfileDescription | sRGB IEC61966-2.1 |
RedHue | 0 |
RedSaturation | 0 |
Saturation | +1 |
SaturationAdjustmentAqua | 0 |
SaturationAdjustmentBlue | 0 |
SaturationAdjustmentGreen | 0 |
SaturationAdjustmentMagenta | 0 |
SaturationAdjustmentOrange | 0 |
SaturationAdjustmentPurple | 0 |
SaturationAdjustmentRed | 0 |
SaturationAdjustmentYellow | 0 |
SaturationHighlights | 0.0 |
SaturationShadows | 2.8 |
SerialNumber | 6238813 |
Shadows | 25 |
ShadowsClipping | 0.0 |
ShadowsSmoothing | 3.0 |
ShadowTint | 0 |
SharpenDetail | 25 |
SharpenEdgeMasking | 0 |
SharpenRadius | +1.0 |
Sharpness | 0 |
ShutterSpeed | 1/500 |
ShutterSpeedValue | 1/500 |
Smoothing | -0.8 |
SmoothingMode | Slider |
Software | Adobe Photoshop Lightroom 3.5 (Windows) |
SplitToningBalance | 0 |
SplitToningHighlightHue | 0 |
SplitToningHighlightSaturation | 0 |
SplitToningShadowHue | 0 |
SplitToningShadowSaturation | 0 |
Strength | 100.0 |
ToneCurve | 0, 0, 255, 255 |
ToneCurveName | Linear |
Version (1) | 4.1 |
Version | 6.5 |
Vibrance | +17 |
VignetteAmount | 0 |
WhiteBalance | As Shot |
WhiteClip | 3.654250 |